BEGIN:VCALENDAR
VERSION:2.0
PRODID:-//Commercial Electronics - ECPv6.15.20//NONSGML v1.0//EN
CALSCALE:GREGORIAN
METHOD:PUBLISH
X-WR-CALNAME:Commercial Electronics
X-ORIGINAL-URL:https://comelectronics.com
X-WR-CALDESC:Events for Commercial Electronics
REFRESH-INTERVAL;VALUE=DURATION:PT1H
X-Robots-Tag:noindex
X-PUBLISHED-TTL:PT1H
BEGIN:VTIMEZONE
TZID:America/Chicago
BEGIN:DAYLIGHT
TZOFFSETFROM:-0600
TZOFFSETTO:-0500
TZNAME:CDT
DTSTART:20180311T080000
END:DAYLIGHT
BEGIN:STANDARD
TZOFFSETFROM:-0500
TZOFFSETTO:-0600
TZNAME:CST
DTSTART:20181104T070000
END:STANDARD
BEGIN:DAYLIGHT
TZOFFSETFROM:-0600
TZOFFSETTO:-0500
TZNAME:CDT
DTSTART:20190310T080000
END:DAYLIGHT
BEGIN:STANDARD
TZOFFSETFROM:-0500
TZOFFSETTO:-0600
TZNAME:CST
DTSTART:20191103T070000
END:STANDARD
BEGIN:DAYLIGHT
TZOFFSETFROM:-0600
TZOFFSETTO:-0500
TZNAME:CDT
DTSTART:20200308T080000
END:DAYLIGHT
BEGIN:STANDARD
TZOFFSETFROM:-0500
TZOFFSETTO:-0600
TZNAME:CST
DTSTART:20201101T070000
END:STANDARD
END:VTIMEZONE
BEGIN:VEVENT
DTSTART;VALUE=DATE:20191104
DTEND;VALUE=DATE:20191105
DTSTAMP:20260423T062201
CREATED:20190821T202139Z
LAST-MODIFIED:20191104T015918Z
UID:1971-1572825600-1572911999@comelectronics.com
SUMMARY:IPSTA Conference
DESCRIPTION:Exhibit Hours: 10:30 am – 4 pm\nCrowne Plaza Springfield – Convention CTR\, 3000 S Dirksen Pkwy\, Springfield\, IL 62703\, USA \n<p>Exhibit Hours: 10:30 am &#8211; 4 pm<br />\nCrowne Plaza Springfield &#8211; Convention CTR\, 3000 S Dirksen Pkwy\, Springfield\, IL 62703\, USA</p>
URL:https://comelectronics.com/event/ipsta-conference/
CATEGORIES:Tradeshows
END:VEVENT
BEGIN:VEVENT
DTSTART;VALUE=DATE:20191031
DTEND;VALUE=DATE:20191101
DTSTAMP:20260423T062201
CREATED:20190821T202139Z
LAST-MODIFIED:20191030T013312Z
UID:1969-1572480000-1572566399@comelectronics.com
SUMMARY:Connecting for Children's Justice Conference
DESCRIPTION:Exhibit Times: 8:30 am – 3 pm\nEmbassy Suites by Hilton Nashville SE Murfreesboro\, 1200 Conference Center Blvd\, Murfreesboro\, TN 37129\, USA \n<p>Exhibit Times: 8:30 am &#8211; 3 pm<br />\nEmbassy Suites by Hilton Nashville SE Murfreesboro\, 1200 Conference Center Blvd\, Murfreesboro\, TN 37129\, USA</p>
URL:https://comelectronics.com/event/connecting-for-childrens-justice-conference/
CATEGORIES:Tradeshows
END:VEVENT
BEGIN:VEVENT
DTSTART;VALUE=DATE:20191030
DTEND;VALUE=DATE:20191031
DTSTAMP:20260423T062201
CREATED:20190821T202139Z
LAST-MODIFIED:20191030T013312Z
UID:1966-1572393600-1572479999@comelectronics.com
SUMMARY:ID 911 PSAP Seminar
DESCRIPTION:Exhibit Times: 7:00 am – 10 am\nThe Riverside Hotel\, 2900 W Chinden Blvd\, Boise\, ID 83714\, USA \n<p>Exhibit Times: 7:00 am &#8211; 10 am<br />\nThe Riverside Hotel\, 2900 W Chinden Blvd\, Boise\, ID 83714\, USA</p>
URL:https://comelectronics.com/event/id-911-psap-seminar-2/
CATEGORIES:Tradeshows
END:VEVENT
BEGIN:VEVENT
DTSTART;VALUE=DATE:20191030
DTEND;VALUE=DATE:20191031
DTSTAMP:20260423T062201
CREATED:20190821T202139Z
LAST-MODIFIED:20191030T013312Z
UID:1968-1572393600-1572479999@comelectronics.com
SUMMARY:Connecting for Children's Justice Annual Conference
DESCRIPTION:Exhibit Times: 8:30 am – 5 pm\nEmbassy Suites by Hilton Nashville SE Murfreesboro\, 1200 Conference Center Blvd\, Murfreesboro\, TN 37129\, USA \n<p>Exhibit Times: 8:30 am &#8211; 5 pm<br />\nEmbassy Suites by Hilton Nashville SE Murfreesboro\, 1200 Conference Center Blvd\, Murfreesboro\, TN 37129\, USA</p>
URL:https://comelectronics.com/event/connecting-for-childrens-justice-annual-conference/
CATEGORIES:Tradeshows
END:VEVENT
BEGIN:VEVENT
DTSTART;VALUE=DATE:20191029
DTEND;VALUE=DATE:20191030
DTSTAMP:20260423T062201
CREATED:20190821T202138Z
LAST-MODIFIED:20191029T013128Z
UID:1965-1572307200-1572393599@comelectronics.com
SUMMARY:ID 911 PSAP Seminar
DESCRIPTION:Exhibit Times: 7:30 am – 5 pm\nThe Riverside Hotel\, 2900 W Chinden Blvd\, Boise\, ID 83714\, USA \n<p>Exhibit Times: 7:30 am &#8211; 5 pm<br />\nThe Riverside Hotel\, 2900 W Chinden Blvd\, Boise\, ID 83714\, USA</p>
URL:https://comelectronics.com/event/id-911-psap-seminar/
CATEGORIES:Tradeshows
END:VEVENT
BEGIN:VEVENT
DTSTART;VALUE=DATE:20191024
DTEND;VALUE=DATE:20191025
DTSTAMP:20260423T062201
CREATED:20190821T202138Z
LAST-MODIFIED:20191024T010010Z
UID:1962-1571875200-1571961599@comelectronics.com
SUMMARY:NCA National Chapter Summit Conference 2019
DESCRIPTION:Exhibit times: 7 am – 3 pm\nThe Summit A Dolce Hotel\, 5345 Medpace Way\, Cincinnati\, OH 45227\, USA \n<p>Exhibit times: 7 am &#8211; 3 pm<br />\nThe Summit A Dolce Hotel\, 5345 Medpace Way\, Cincinnati\, OH 45227\, USA</p>
URL:https://comelectronics.com/event/nca-national-chapter-summit-conference-2019-2/
CATEGORIES:Tradeshows
END:VEVENT
BEGIN:VEVENT
DTSTART;VALUE=DATE:20191024
DTEND;VALUE=DATE:20191025
DTSTAMP:20260423T062201
CREATED:20190821T202138Z
LAST-MODIFIED:20191024T010010Z
UID:1963-1571875200-1571961599@comelectronics.com
SUMMARY:VA APCO/NENA
DESCRIPTION:Exhibit Times: 7:30 am – 1 pm\nHotel Roanoke & Conference Center\, 110 Shenandoah AVE NW\, Roanoke\, VA 24016\, USA \n<p>Exhibit Times: 7:30 am &#8211; 1 pm<br />\nHotel Roanoke &amp; Conference Center\, 110 Shenandoah AVE NW\, Roanoke\, VA 24016\, USA</p>
URL:https://comelectronics.com/event/va-apco-nena-2/
CATEGORIES:Tradeshows
END:VEVENT
BEGIN:VEVENT
DTSTART;VALUE=DATE:20191023
DTEND;VALUE=DATE:20191024
DTSTAMP:20260423T062201
CREATED:20190821T202138Z
LAST-MODIFIED:20191023T005719Z
UID:1958-1571788800-1571875199@comelectronics.com
SUMMARY:NCA National Chapter Summit Conference 2019
DESCRIPTION:Exhibit times: 7 am – 5 pm\nThe Summit A Dolce Hotel\, 5345 Medpace Way\, Cincinnati\, OH 45227\, USA \n<p>Exhibit times: 7 am &#8211; 5 pm<br />\nThe Summit A Dolce Hotel\, 5345 Medpace Way\, Cincinnati\, OH 45227\, USA</p>
URL:https://comelectronics.com/event/nca-national-chapter-summit-conference-2019/
CATEGORIES:Tradeshows
END:VEVENT
BEGIN:VEVENT
DTSTART;VALUE=DATE:20191023
DTEND;VALUE=DATE:20191024
DTSTAMP:20260423T062201
CREATED:20190821T202138Z
LAST-MODIFIED:20191023T005719Z
UID:1960-1571788800-1571875199@comelectronics.com
SUMMARY:VA APCO/NENA
DESCRIPTION:Exhibit Times: 11:30 am – 5 pm\nHotel Roanoke & Conference Center\, 110 Shenandoah AVE NW\, Roanoke\, VA 24016\, USA \n<p>Exhibit Times: 11:30 am &#8211; 5 pm<br />\nHotel Roanoke &amp; Conference Center\, 110 Shenandoah AVE NW\, Roanoke\, VA 24016\, USA</p>
URL:https://comelectronics.com/event/va-apco-nena/
CATEGORIES:Tradeshows
END:VEVENT
BEGIN:VEVENT
DTSTART;VALUE=DATE:20191022
DTEND;VALUE=DATE:20191023
DTSTAMP:20260423T062201
CREATED:20190821T202137Z
LAST-MODIFIED:20191022T004915Z
UID:1957-1571702400-1571788799@comelectronics.com
SUMMARY:NYSCA Leadership Conference
DESCRIPTION:Conference Sessions 8 am – 12:30 pm\nHoliday Inn Saratoga Springs\, 232 Broadway\, Saratoga Springs\, NY 12866\, USA \n<p>Conference Sessions 8 am &#8211; 12:30 pm<br />\nHoliday Inn Saratoga Springs\, 232 Broadway\, Saratoga Springs\, NY 12866\, USA</p>
URL:https://comelectronics.com/event/nysca-leadership-conference-2/
CATEGORIES:Tradeshows
END:VEVENT
BEGIN:VEVENT
DTSTART;VALUE=DATE:20191021
DTEND;VALUE=DATE:20191022
DTSTAMP:20260423T062201
CREATED:20190821T202137Z
LAST-MODIFIED:20191021T004742Z
UID:1956-1571616000-1571702399@comelectronics.com
SUMMARY:NYSCA Leadership Conference
DESCRIPTION:Conference Sessions 8 am – 5 pm\nHoliday Inn Saratoga Springs\, 232 Broadway\, Saratoga Springs\, NY 12866\, USA \n<p>Conference Sessions 8 am &#8211; 5 pm<br />\nHoliday Inn Saratoga Springs\, 232 Broadway\, Saratoga Springs\, NY 12866\, USA</p>
URL:https://comelectronics.com/event/nysca-leadership-conference/
CATEGORIES:Tradeshows
END:VEVENT
BEGIN:VEVENT
DTSTART;TZID=America/Chicago:20191016T090000
DTEND;TZID=America/Chicago:20191016T100000
DTSTAMP:20260423T062201
CREATED:20190625T205726Z
LAST-MODIFIED:20191016T021106Z
UID:1711-1571216400-1571220000@comelectronics.com
SUMMARY:HigherGround Advanced Training: Quality Assurance
DESCRIPTION:Click the button below to register for this session.Register  <p><a href="https://meeting.zoho.com/meeting/register?sessionId=1082034878" id="ow1242">https://meeting.zoho.com/meeting/register?sessionId=1082034878</a></p>
URL:https://comelectronics.com/event/higherground-advanced-training-quality-assurance-2/
CATEGORIES:Training
END:VEVENT
BEGIN:VEVENT
DTSTART;TZID=America/Chicago:20191015T100000
DTEND;TZID=America/Chicago:20191015T110000
DTSTAMP:20260423T062201
CREATED:20190208T095658Z
LAST-MODIFIED:20191015T021151Z
UID:1084-1571133600-1571137200@comelectronics.com
SUMMARY:HigherGround Basic Training
DESCRIPTION:Click the button below to register for this session.Register  <p><a href="https://meeting.zoho.com/meeting/register?sessionId=1091234241" id="ow1083">https://meeting.zoho.com/meeting/register?sessionId=1091234241</a></p>
URL:https://comelectronics.com/event/hg-basic-training-13/
CATEGORIES:Training
END:VEVENT
BEGIN:VEVENT
DTSTART;VALUE=DATE:20191010
DTEND;VALUE=DATE:20191011
DTSTAMP:20260423T062201
CREATED:20190821T202136Z
LAST-MODIFIED:20191010T232702Z
UID:1954-1570665600-1570751999@comelectronics.com
SUMMARY:WA  APCO
DESCRIPTION:Exhibit Times: 10 am – 1 pm\nThree Rivers Convention Center\, 7016 W Grandridge Blvd\, Kennewick\, WA 99336\, USA \n<p>Exhibit Times: 10 am &#8211; 1 pm<br />\nThree Rivers Convention Center\, 7016 W Grandridge Blvd\, Kennewick\, WA 99336\, USA</p>
URL:https://comelectronics.com/event/wa-apco-2/
CATEGORIES:Tradeshows
END:VEVENT
BEGIN:VEVENT
DTSTART;VALUE=DATE:20191009
DTEND;VALUE=DATE:20191010
DTSTAMP:20260423T062201
CREATED:20190821T202136Z
LAST-MODIFIED:20191009T232607Z
UID:1953-1570579200-1570665599@comelectronics.com
SUMMARY:WA  APCO
DESCRIPTION:Exhibit Times: 5:30 – 7:00 pm\nThree Rivers Convention Center\, 7016 W Grandridge Blvd\, Kennewick\, WA 99336\, USA \n<p>Exhibit Times: 5:30 &#8211; 7:00 pm<br />\nThree Rivers Convention Center\, 7016 W Grandridge Blvd\, Kennewick\, WA 99336\, USA</p>
URL:https://comelectronics.com/event/wa-apco/
CATEGORIES:Tradeshows
END:VEVENT
BEGIN:VEVENT
DTSTART;VALUE=DATE:20191008
DTEND;VALUE=DATE:20191009
DTSTAMP:20260423T062201
CREATED:20190821T202136Z
LAST-MODIFIED:20191008T232625Z
UID:1951-1570492800-1570579199@comelectronics.com
SUMMARY:OK Public Safety Conference
DESCRIPTION:Exhibit Times: 10:00 a.m. – 4:30 p.m.\nMarriott Tulsa Hotel Southern Hills\, 1902 E 71st St\, Tulsa\, OK 74136\, USA \n<p>Exhibit Times: 10:00 a.m. &#8211; 4:30 p.m.<br />\nMarriott Tulsa Hotel Southern Hills\, 1902 E 71st St\, Tulsa\, OK 74136\, USA</p>
URL:https://comelectronics.com/event/ok-public-safety-conference-2/
CATEGORIES:Tradeshows
END:VEVENT
BEGIN:VEVENT
DTSTART;VALUE=DATE:20191007
DTEND;VALUE=DATE:20191008
DTSTAMP:20260423T062201
CREATED:20190821T202136Z
LAST-MODIFIED:20191007T232630Z
UID:1950-1570406400-1570492799@comelectronics.com
SUMMARY:OK Public Safety Conference
DESCRIPTION:Exhibit Times: 2:30 – 5:00 pm\nMarriott Tulsa Hotel Southern Hills\, 1902 E 71st St\, Tulsa\, OK 74136\, USA \n<p>Exhibit Times: 2:30 &#8211; 5:00 pm<br />\nMarriott Tulsa Hotel Southern Hills\, 1902 E 71st St\, Tulsa\, OK 74136\, USA</p>
URL:https://comelectronics.com/event/ok-public-safety-conference/
CATEGORIES:Tradeshows
END:VEVENT
BEGIN:VEVENT
DTSTART;TZID=America/Chicago:20191002T120000
DTEND;TZID=America/Chicago:20191002T130000
DTSTAMP:20260423T062201
CREATED:20190904T151418Z
LAST-MODIFIED:20190904T151418Z
UID:2043-1570017600-1570021200@comelectronics.com
SUMMARY:9-1-1 Public Education: The Big Picture
DESCRIPTION:Saving lives is the ultimate goal…right?? As a public educator\, are you juggling job duties while struggling to keep the “big picture” in mind? \nFrom this webinar\, you will gain insights on how clearly seeing the “big picture” can help you clarify and navigate the complexities of your public education program. \nPresented by Patti Davis\, President & Conference Chair\, National Public Safety Educator Forum \nPublic Safety Education Series \nClick the button below to register for this session.Register  \n\nAbout Patti Davis: \nPatti Davis had planned to be an elementary classroom teacher\, earning her BBS in Education and Masters in Reading\, but then she discovered her life’s work was teaching people of all ages. Over the past 24 years\, Patti has worked in one capacity or another in Public Education at the West Central Texas Council of Governments. Whether it was cancer awareness\, interviewing skills\, GED study skills\, computer skills\, or 9-1-1 awareness\, her jobs at the COG have enabled Patti to feed her passions – passions for connecting people with other people\, with resources\, with learning\, and with information. \nAbout National Public Safety Educator Forum:\n\nNational Public Safety Educator Forum is a network of public safety professionals that serves to strengthen the resources of 9-1-1 public education programs by sharing resources and information. \nAbout this series: \n\nThis series is presented by Commercial Electronics to share educational presentations on topics relevant to Public Safety Communications. At Commercial Electronics\, we are committed to providing NG-9-1-1 Public Safety recording and data capture solutions that meet the requirements of today’s PSAPs.<p>&nbsp;</p>\n<p>Saving lives is the ultimate goal&#8230;right?? As a public educator\, are you juggling job duties while struggling to keep the &#8220;big picture&#8221; in mind?</p>\n<p>From this webinar\, you will gain insights on how clearly seeing the &#8220;big picture&#8221; can help you clarify and navigate the complexities of your public education program.</p>\n<p>Presented by Patti Davis\, President &amp; Conference Chair\, National Public Safety Educator Forum</p>\n<p><strong>Public Safety Education Series</strong></p>\n<p>https://meeting.zoho.com/meeting/register?sessionId=1079361995</p>\n<div>\n<p><strong>About Patti Davis:</strong></p>\n<p>Patti Davis had planned to be an elementary classroom teacher\, earning her BBS in Education and Masters in Reading\, but then she discovered her life&#8217;s work was teaching people of all ages. Over the past 24 years\, Patti has worked in one capacity or another in Public Education at the West Central Texas Council of Governments. Whether it was cancer awareness\, interviewing skills\, GED study skills\, computer skills\, or 9-1-1 awareness\, her jobs at the COG have enabled Patti to feed her passions &#8211; passions for connecting people with other people\, with resources\, with learning\, and with information.</p>\n<p><strong>About National Public Safety Educator Forum:</strong></div>\n<div>\n<p>National Public Safety Educator Forum is a network of public safety professionals that serves to strengthen the resources of 9-1-1 public education programs by sharing resources and information.</p>\n<p><strong>About this series:</strong></p>\n</div>\n<div>This series is presented by Commercial Electronics to share educational presentations on topics relevant to Public Safety Communications. At Commercial Electronics\, we are committed to providing NG-9-1-1 Public Safety recording and data capture solutions that meet the requirements of today&#8217;s PSAPs.</div>
URL:https://comelectronics.com/event/9-1-1-public-education-the-big-picture/
CATEGORIES:Training
END:VEVENT
BEGIN:VEVENT
DTSTART;TZID=America/Chicago:20190926T120000
DTEND;TZID=America/Chicago:20190926T130000
DTSTAMP:20260423T062201
CREATED:20190208T095658Z
LAST-MODIFIED:20190926T001205Z
UID:1082-1569499200-1569502800@comelectronics.com
SUMMARY:HigherGround Advanced Training: Shortcuts to Showcase Performance
DESCRIPTION:Click the button below to register for this session.Register  <p><a href="https://meeting.zoho.com/meeting/register?sessionId=1020806549" id="ow800">https://meeting.zoho.com/meeting/register?sessionId=1020806549</a></p>
URL:https://comelectronics.com/event/hg-training-shortcuts-to-showcase-performance-2/
CATEGORIES:Training
END:VEVENT
BEGIN:VEVENT
DTSTART;TZID=America/Chicago:20190925T120000
DTEND;TZID=America/Chicago:20190925T130000
DTSTAMP:20260423T062201
CREATED:20190208T095658Z
LAST-MODIFIED:20190925T001150Z
UID:1080-1569412800-1569416400@comelectronics.com
SUMMARY:HigherGround Advanced Training: Dashboards\, Your Center At A Glance
DESCRIPTION:Click the button below to register for this session.Register  <p><a href="https://meeting.zoho.com/meeting/register?sessionId=1097218342" id="ow638">https://meeting.zoho.com/meeting/register?sessionId=1097218342</a></p>
URL:https://comelectronics.com/event/hg-training-dashboards-your-center-at-a-glance-3/
CATEGORIES:Training
END:VEVENT
BEGIN:VEVENT
DTSTART;TZID=America/Chicago:20190924T120000
DTEND;TZID=America/Chicago:20190924T130000
DTSTAMP:20260423T062201
CREATED:20190208T095657Z
LAST-MODIFIED:20190924T001134Z
UID:1078-1569326400-1569330000@comelectronics.com
SUMMARY:HigherGround Advanced Training: Advanced User and Report Settings
DESCRIPTION:Click the button below to register for this session.Register  <p>https://meeting.zoho.com/meeting/register?sessionId=1049263441</p>
URL:https://comelectronics.com/event/hg-training-advanced-user-and-report-settings-4/
CATEGORIES:Training
END:VEVENT
BEGIN:VEVENT
DTSTART;TZID=America/Chicago:20190917T180000
DTEND;TZID=America/Chicago:20190917T190000
DTSTAMP:20260423T062201
CREATED:20190208T095657Z
LAST-MODIFIED:20190918T234535Z
UID:1076-1568743200-1568746800@comelectronics.com
SUMMARY:HigherGround Basic Training
DESCRIPTION:Click the button below to register for this session.Register  <p>https://meeting.zoho.com/meeting/register?sessionId=1066798250</p>
URL:https://comelectronics.com/event/hg-basic-training-12/
CATEGORIES:Training
END:VEVENT
BEGIN:VEVENT
DTSTART;VALUE=DATE:20190912
DTEND;VALUE=DATE:20190913
DTSTAMP:20260423T062201
CREATED:20190822T202830Z
LAST-MODIFIED:20190912T222754Z
UID:1981-1568246400-1568332799@comelectronics.com
SUMMARY:2019 OR APCO/NENA Fall Conference
DESCRIPTION:Exhibit Times: 7:30 – 11:30 am\nRiverhouse Convention Center  3075 N. Business 97  Bend\, OR 97703 \n<p>Exhibit Times: 7:30 &#8211; 11:30 am<br />\nRiverhouse Convention Center  3075 N. Business 97  Bend\, OR 97703</p>
URL:https://comelectronics.com/event/2019-or-apco-nena-fall-conference/
CATEGORIES:Tradeshows
END:VEVENT
BEGIN:VEVENT
DTSTART;TZID=America/Chicago:20190904T120000
DTEND;TZID=America/Chicago:20190904T130000
DTSTAMP:20260423T062201
CREATED:20190711T182524Z
LAST-MODIFIED:20190711T183016Z
UID:1775-1567598400-1567602000@comelectronics.com
SUMMARY:Aztec High School Shooting “The School Shooting You Didn’t Hear About”
DESCRIPTION:Click the button below to register for this session.Register  \n“Dispatching is a calling\, it is not something that everyone can do.  It takes a strong individual dedicated to helping others to the very best of their ability.  In order to keep our centers\, our agencies\, our communities and ourselves out of liability trouble it is imperative we train often and on current events utilizing all available resources.  We can never say ‘that won’t happen here’ because we never know what type of calls will happen on any given day so we must always be prepared.” — Tandra Malcom \nDecember 7\, 2017\, Aztec High School in Aztec\, New Mexico experienced a school shooting leaving two students dead and a community in shock.  This webinar will give an understanding of this incident from the dispatch center’s perspective including pre-planning\, lessons learned and moving forward after the incident. \nPresented by Tandra K. Malcom\, Operations Manager\, San Juan County Communications Authority \nLocated in the Northwest corner of New Mexico in what is commonly referred to as the Four Corners\, Aztec is a small community of about 6\,500 people.   The City of Aztec Police and Fire departments are dispatched by a combined communications center that also serves the City of Farmington\, the City of Bloomfield\, and San Juan County\, handling Police\, Fire\, and EMS. <p>https://meeting.zoho.com/meeting/register?sessionId=1096109987</p>\n<p>&#8220;<em>Dispatching is a calling\, it is not something that everyone can do.  It takes a strong individual dedicated to helping others to the very best of their ability.  In order to keep our centers\, our agencies\, our communities and ourselves out of liability trouble it is imperative we train often and on current events utilizing all available resources.  We can never say &#8216;that won’t happen here&#8217; because we never know what type of calls will happen on any given day so we must always be prepared.</em>&#8221; &#8212; <em>Tandra Malcom</em></p>\n<p>December 7\, 2017\, Aztec High School in Aztec\, New Mexico experienced a school shooting leaving two students dead and a community in shock.  This webinar will give an understanding of this incident from the dispatch center&#8217;s perspective including pre-planning\, lessons learned and moving forward after the incident.</p>\n<p><em><strong>Presented by Tandra K. Malcom\, Operations Manager\, San Juan County Communications Authority</strong></em></p>\n<p>Located in the Northwest corner of New Mexico in what is commonly referred to as the Four Corners\, Aztec is a small community of about 6\,500 people.   The City of Aztec Police and Fire departments are dispatched by a combined communications center that also serves the City of Farmington\, the City of Bloomfield\, and San Juan County\, handling Police\, Fire\, and EMS.</p>
URL:https://comelectronics.com/event/aztec-high-school-shooting-the-school-shooting-you-didnt-hear-about/
CATEGORIES:Training
END:VEVENT
BEGIN:VEVENT
DTSTART;TZID=America/Chicago:20190827T160000
DTEND;TZID=America/Chicago:20190827T170000
DTSTAMP:20260423T062201
CREATED:20190208T095657Z
LAST-MODIFIED:20190827T224212Z
UID:1074-1566921600-1566925200@comelectronics.com
SUMMARY:HigherGround Advanced Training: Customizing Reports For Your Center
DESCRIPTION:Click the button below to register for this session.Register  <p>https://meeting.zoho.com/meeting/register?sessionId=1031699017</p>
URL:https://comelectronics.com/event/hg-advanced-training-customizing-reports-for-your-center-4/
CATEGORIES:Training
END:VEVENT
BEGIN:VEVENT
DTSTART;TZID=America/Chicago:20190821T140000
DTEND;TZID=America/Chicago:20190821T150000
DTSTAMP:20260423T062201
CREATED:20190208T095657Z
LAST-MODIFIED:20190821T202342Z
UID:1072-1566396000-1566399600@comelectronics.com
SUMMARY:HigherGround Basic Training
DESCRIPTION:Click the button below to register for this session.Register  <p>https://meeting.zoho.com/meeting/register?sessionId=1034638531</p>
URL:https://comelectronics.com/event/hg-basic-training-10/
CATEGORIES:Training
END:VEVENT
BEGIN:VEVENT
DTSTART;VALUE=DATE:20190812
DTEND;VALUE=DATE:20190816
DTSTAMP:20260423T062201
CREATED:20181213T165519Z
LAST-MODIFIED:20190731T031215Z
UID:796-1565568000-1565913599@comelectronics.com
SUMMARY:31st Annual Crimes Against Children Conference
DESCRIPTION:Booth 44 \n<p>Booth 44</p>
URL:https://comelectronics.com/event/31st-annual-crimes-against-children-conference/
LOCATION:Dallas\, TX\, USA\, United States
CATEGORIES:Tradeshows
END:VEVENT
BEGIN:VEVENT
DTSTART;VALUE=DATE:20190811
DTEND;VALUE=DATE:20190815
DTSTAMP:20260423T062201
CREATED:20181213T165519Z
LAST-MODIFIED:20190731T031215Z
UID:795-1565481600-1565827199@comelectronics.com
SUMMARY:APCO 2019
DESCRIPTION:Booth #476 \n<p>Booth #476</p>
URL:https://comelectronics.com/event/apco-2019/
LOCATION:Baltimore\, MD\, USA\, United States
CATEGORIES:Tradeshows
END:VEVENT
BEGIN:VEVENT
DTSTART;TZID=America/Chicago:20190807T120000
DTEND;TZID=America/Chicago:20190807T130000
DTSTAMP:20260423T062201
CREATED:20190709T180739Z
LAST-MODIFIED:20190723T163734Z
UID:1749-1565179200-1565182800@comelectronics.com
SUMMARY:TX TERT Hurricane Harvey Telecommunicator Response - How TX TERT supported the First First Responders
DESCRIPTION:Click the button below to register for this session.Register  \nIn 2017\, Hurricane Harvey devasted three geographical areas of Texas. Following the events of Harvey\, TX TERT deployed over 40 9-1-1 Telecommunicators on nine teams to five different agencies. TX TERT State Coordinator\, Jason Smith\, ENP\,  will review lessons learned from the deployments and steps taken following previous deployments to ensure the program will be ready to accommodate future TERT requests. \nMeet our presenter \nAlong with being\, TX TERT State Coordinator\, Jason Smith\, ENP\, is the 9-1-1 Operations Supervisor for the North Central Texas Regional Emergency Communications District. Jason has 20 years of service in public safety communications and holds his Master Telecommunicator Certificate. Jason has been an active TX TERT member since 2007. He was associated with the first TERT deployment following Hurricane Ike and served as the communications liaison during the Hurricane Isaac deployment. Jason was appointed to the TX TERT state coordinator position in May 2017 and was responsible for organizing and deploying the nine TERT teams following Hurricane Harvey. Jason has had the opportunity to travel around Texas and the nation to present on various TERT-related topics and is a strong supporter of the TERT initiative. <p>https://meeting.zoho.com/meeting/register?sessionId=1073787797</p>\n<p>In 2017\, Hurricane Harvey devasted three geographical areas of Texas. Following the events of Harvey\, TX TERT deployed over 40 9-1-1 Telecommunicators on nine teams to five different agencies. TX TERT State Coordinator\, Jason Smith\, ENP\,  will review lessons learned from the deployments and steps taken following previous deployments to ensure the program will be ready to accommodate future TERT requests.</p>\n<p><strong>Meet our presenter</strong></p>\n<p>Along with being\, TX TERT State Coordinator\, Jason Smith\, ENP\, is the 9-1-1 Operations Supervisor for the North Central Texas Regional Emergency Communications District. Jason has 20 years of service in public safety communications and holds his Master Telecommunicator Certificate. Jason has been an active TX TERT member since 2007. He was associated with the first TERT deployment following Hurricane Ike and served as the communications liaison during the Hurricane Isaac deployment. Jason was appointed to the TX TERT state coordinator position in May 2017 and was responsible for organizing and deploying the nine TERT teams following Hurricane Harvey. Jason has had the opportunity to travel around Texas and the nation to present on various TERT-related topics and is a strong supporter of the TERT initiative.</p>
URL:https://comelectronics.com/event/tx-tert-hurricane-harvey-telecommunicator-response-how-tx-tert-supported-the-first-first-responders/
CATEGORIES:Training
END:VEVENT
BEGIN:VEVENT
DTSTART;TZID=America/Chicago:20190723T110000
DTEND;TZID=America/Chicago:20190723T120000
DTSTAMP:20260423T062201
CREATED:20190625T205724Z
LAST-MODIFIED:20190723T061248Z
UID:1702-1563879600-1563883200@comelectronics.com
SUMMARY:HigherGround Advanced Training: Quality Assurance
DESCRIPTION:Click the button below to register for this session.Register  <p>https://meeting.zoho.com/meeting/register?sessionId=1016232164</p>
URL:https://comelectronics.com/event/higherground-advanced-training-quality-assurance/
CATEGORIES:Training
END:VEVENT
END:VCALENDAR