BEGIN:VCALENDAR
VERSION:2.0
PRODID:-//Commercial Electronics - ECPv6.15.20//NONSGML v1.0//EN
CALSCALE:GREGORIAN
METHOD:PUBLISH
X-WR-CALNAME:Commercial Electronics
X-ORIGINAL-URL:https://comelectronics.com
X-WR-CALDESC:Events for Commercial Electronics
REFRESH-INTERVAL;VALUE=DURATION:PT1H
X-Robots-Tag:noindex
X-PUBLISHED-TTL:PT1H
BEGIN:VTIMEZONE
TZID:America/Chicago
BEGIN:DAYLIGHT
TZOFFSETFROM:-0600
TZOFFSETTO:-0500
TZNAME:CDT
DTSTART:20200308T080000
END:DAYLIGHT
BEGIN:STANDARD
TZOFFSETFROM:-0500
TZOFFSETTO:-0600
TZNAME:CST
DTSTART:20201101T070000
END:STANDARD
BEGIN:DAYLIGHT
TZOFFSETFROM:-0600
TZOFFSETTO:-0500
TZNAME:CDT
DTSTART:20210314T080000
END:DAYLIGHT
BEGIN:STANDARD
TZOFFSETFROM:-0500
TZOFFSETTO:-0600
TZNAME:CST
DTSTART:20211107T070000
END:STANDARD
BEGIN:DAYLIGHT
TZOFFSETFROM:-0600
TZOFFSETTO:-0500
TZNAME:CDT
DTSTART:20220313T080000
END:DAYLIGHT
BEGIN:STANDARD
TZOFFSETFROM:-0500
TZOFFSETTO:-0600
TZNAME:CST
DTSTART:20221106T070000
END:STANDARD
END:VTIMEZONE
BEGIN:VEVENT
DTSTART;VALUE=DATE:20210913
DTEND;VALUE=DATE:20210916
DTSTAMP:20260422T171022
CREATED:20210609T184654Z
LAST-MODIFIED:20210915T084404Z
UID:5085-1631491200-1631750399@comelectronics.com
SUMMARY:Virginia Crimes Against Children Conference
DESCRIPTION:DoubleTree by Hilton Hotel    50 Kingsmill Rd   Williamsburg\, VA   23185  Exhibit Times: Monday\, Sept 13:  8:00 am – 4:30 pm  Tuesday\, Sept 14:  8:00 am – 4:30 pm  Wednesday\, Sept 15:  8:30 am – 11:45 am   Exhibiting:  V2 Advocate Interview Room Recording System \n<p>DoubleTree by Hilton Hotel    50 Kingsmill Rd   Williamsburg\, VA   23185  Exhibit Times: Monday\, Sept 13:  8:00 am &#8211; 4:30 pm  Tuesday\, Sept 14:  8:00 am &#8211; 4:30 pm  Wednesday\, Sept 15:  8:30 am &#8211; 11:45 am   Exhibiting:  V2 Advocate Interview Room Recording System</p>
URL:https://comelectronics.com/event/virginia-crimes-against-children-conference/
CATEGORIES:Tradeshows
END:VEVENT
BEGIN:VEVENT
DTSTART;VALUE=DATE:20210830
DTEND;VALUE=DATE:20210901
DTSTAMP:20260422T171022
CREATED:20210702T215759Z
LAST-MODIFIED:20210831T071340Z
UID:5257-1630281600-1630454399@comelectronics.com
SUMMARY:11th Annual Children's Advocacy Centers of Michigan Conference
DESCRIPTION:Ally Sponsor DeVos Place Convention Center   303 Monroe Ave NW   Grand Rapids\, MI  49503  Exhibiting:  V2 Advocate Interview Room Recording System \n<p>Ally Sponsor DeVos Place Convention Center   303 Monroe Ave NW   Grand Rapids\, MI  49503  Exhibiting:  V2 Advocate Interview Room Recording System</p>
URL:https://comelectronics.com/event/11th-annual-childrens-advocacy-centers-of-michigan-conference/
CATEGORIES:Tradeshows
END:VEVENT
BEGIN:VEVENT
DTSTART;TZID=America/Chicago:20210825T150000
DTEND;TZID=America/Chicago:20210825T160000
DTSTAMP:20260422T171022
CREATED:20210612T214428Z
LAST-MODIFIED:20210825T081221Z
UID:5132-1629903600-1629907200@comelectronics.com
SUMMARY:HigherGround V9 Basic Training
DESCRIPTION:This webinar will cover what is needed to effectively operate HG’s Capture911 Browser Interface. Including: personalizing screen layout; searching by filter and sorting the results; using playback and redaction; and saving and sharing interactions. This training will benefit: Dispatch\, Staff and New Hires       <p>This webinar will cover what is needed to effectively operate HG’s Capture911 Browser Interface. Including: personalizing screen layout; searching by filter and sorting the results; using playback and redaction; and saving and sharing interactions. This training will benefit: Dispatch\, Staff and New Hires    https://comelectronics.zohoshowtime.com/embedform#sessionId=3185967000000513068&amp;zaid=10010108523&amp;utm_st_source=embed&amp;header=true</p>
URL:https://comelectronics.com/event/higherground-v9-basic-training-3/
CATEGORIES:Basic Training
END:VEVENT
BEGIN:VEVENT
DTSTART;TZID=America/Chicago:20210824T110000
DTEND;TZID=America/Chicago:20210824T120000
DTSTAMP:20260422T171022
CREATED:20210612T214428Z
LAST-MODIFIED:20210824T075921Z
UID:5131-1629802800-1629806400@comelectronics.com
SUMMARY:HigherGround Basic Training
DESCRIPTION:Description This webinar will cover what is needed to effectively operate HG’s Capture911. Including: personalizing screen layout; searching by filter and sorting the results; using playback and redaction; and saving and sharing interactions. This training will benefit: Dispatch\, Staff and New Hires.       <p>Description This webinar will cover what is needed to effectively operate HG’s Capture911. Including: personalizing screen layout; searching by filter and sorting the results; using playback and redaction; and saving and sharing interactions. This training will benefit: Dispatch\, Staff and New Hires.    https://comelectronics.zohoshowtime.com/embedform#sessionId=3185967000000513060&amp;zaid=10010108523&amp;utm_st_source=embed&amp;header=true</p>
URL:https://comelectronics.com/event/higherground-basic-training-10/
CATEGORIES:Basic Training
END:VEVENT
BEGIN:VEVENT
DTSTART;VALUE=DATE:20210823
DTEND;VALUE=DATE:20210824
DTSTAMP:20260422T171022
CREATED:20210527T164224Z
LAST-MODIFIED:20210823T062757Z
UID:5011-1629676800-1629763199@comelectronics.com
SUMMARY:Virginia Association of Chiefs of Police (VACP) Conference
DESCRIPTION:Booth #:  303 The Williamsburg Lodge    310 S England St   Williamsburg\, Virginia   23185  Exhibit Times:   Monday\,  August 23:  7:30 am – 4:00 pm    Exhibiting:  Live911 – Distance-Aware Real-Time Monitoring and V2 Shield Interview Room Recording System \n<p>Booth #:  303 The Williamsburg Lodge    310 S England St   Williamsburg\, Virginia   23185  Exhibit Times:   Monday\,  August 23:  7:30 am &#8211; 4:00 pm    Exhibiting:  Live911 &#8211; Distance-Aware Real-Time Monitoring and V2 Shield Interview Room Recording System</p>
URL:https://comelectronics.com/event/virginia-association-of-chiefs-of-police-vacp-conference/
CATEGORIES:Tradeshows
END:VEVENT
BEGIN:VEVENT
DTSTART;VALUE=DATE:20210819
DTEND;VALUE=DATE:20210821
DTSTAMP:20260422T171022
CREATED:20210324T093722Z
LAST-MODIFIED:20210820T061213Z
UID:4664-1629331200-1629503999@comelectronics.com
SUMMARY:Midwest Security & Police Conference/Expo (MSPCE)
DESCRIPTION:Booth #: 207 Tinley Park Convention Center   18451 Convention Center Drive   Tinley Park\, Illinois   60477  Exhibiting:  Live911 – Distance-Aware Real-Time Monitoring and V2 Shield Interview Room Recording System \n<p>Booth #: 207 Tinley Park Convention Center   18451 Convention Center Drive   Tinley Park\, Illinois   60477  Exhibiting:  Live911 &#8211; Distance-Aware Real-Time Monitoring and V2 Shield Interview Room Recording System</p>
URL:https://comelectronics.com/event/midwest-security-police-conference-expo-mspce/
CATEGORIES:Tradeshows
END:VEVENT
BEGIN:VEVENT
DTSTART;TZID=America/Chicago:20210815T160000
DTEND;TZID=America/Chicago:20210815T190000
DTSTAMP:20260422T171022
CREATED:20210719T235757Z
LAST-MODIFIED:20210815T053255Z
UID:5377-1629043200-1629054000@comelectronics.com
SUMMARY:Tex-Mex & Technology
DESCRIPTION:During APCO\, learn more about Live911 and how it can improve how you serve as you join us for some great Tex-Mex Appetizers at the famous Casa Rio Restaurant. Registration required. Full details can be found here; https://comelectronics.com/tex-mex-technology/ \n<p>During APCO\, learn more about Live911 and how it can improve how you serve as you join us for some great Tex-Mex Appetizers at the famous Casa Rio Restaurant. Registration required. Full details can be found here; https://comelectronics.com/tex-mex-technology/</p>
URL:https://comelectronics.com/event/tex-mex-technology/
LOCATION:Casa Rio Restaurant\, San Antonio\, TX
CATEGORIES:Tradeshows
END:VEVENT
BEGIN:VEVENT
DTSTART;VALUE=DATE:20210815
DTEND;VALUE=DATE:20210819
DTSTAMP:20260422T171022
CREATED:20210324T093722Z
LAST-MODIFIED:20210818T060105Z
UID:4665-1628985600-1629331199@comelectronics.com
SUMMARY:APCO Conference
DESCRIPTION:Booth #:  1802 Henry B. Gonzalez Convention Center   900 E Market St    San Antonio\, TX   78205  Exhibit Times: Monday\, August 16:  10:00 am – 5:00 pm Tuesday\, August 17: 10:00 am – 4:00 pm  Exhibiting:  Live911 – Distance-Aware Real-Time Monitoring and HigherGround NG911 Voice Recording System \n<p>Booth #:  1802 Henry B. Gonzalez Convention Center   900 E Market St    San Antonio\, TX   78205  Exhibit Times: Monday\, August 16:  10:00 am &#8211; 5:00 pm Tuesday\, August 17: 10:00 am &#8211; 4:00 pm  Exhibiting:  Live911 &#8211; Distance-Aware Real-Time Monitoring and HigherGround NG911 Voice Recording System</p>
URL:https://comelectronics.com/event/apco-conference-2/
CATEGORIES:Tradeshows
END:VEVENT
BEGIN:VEVENT
DTSTART;TZID=America/Chicago:20210812T120000
DTEND;TZID=America/Chicago:20210812T130000
DTSTAMP:20260422T171022
CREATED:20210612T182328Z
LAST-MODIFIED:20210812T042850Z
UID:5126-1628769600-1628773200@comelectronics.com
SUMMARY:HigherGround Shortcuts to Showcase Performance
DESCRIPTION:Part three of the Power User Series\, learn the capabilities of the Application Menu Bar. This series will show you how to personalize and optimize your HG system for administration. In this session we will cover the File\, View and Favorites tabs and the valuable shortcuts they provide to information and formats that help you keep track of performance in your center.       <p>Part three of the Power User Series\, learn the capabilities of the Application Menu Bar. This series will show you how to personalize and optimize your HG system for administration. In this session we will cover the File\, View and Favorites tabs and the valuable shortcuts they provide to information and formats that help you keep track of performance in your center.    https://comelectronics.zohoshowtime.com/embedform#sessionId=3185967000000513052&amp;zaid=10010108523&amp;utm_st_source=embed&amp;header=true</p>
URL:https://comelectronics.com/event/higherground-shortcuts-to-showcase-performance/
CATEGORIES:Advanced Training
END:VEVENT
BEGIN:VEVENT
DTSTART;TZID=America/Chicago:20210811T120000
DTEND;TZID=America/Chicago:20210811T130000
DTSTAMP:20260422T171022
CREATED:20210612T182328Z
LAST-MODIFIED:20210811T041359Z
UID:5125-1628683200-1628686800@comelectronics.com
SUMMARY:HigherGround Dashboards: Your Center at a Glance
DESCRIPTION:Part two of the Power User Series\, learn the capabilities of the Application Menu Bar. This series will show you how to personalize and optimize your HG system for administration. In this session we will cover the Dashboard tab and show you how you can see your center’s performance at a glance.     <p>Part two of the Power User Series\, learn the capabilities of the Application Menu Bar. This series will show you how to personalize and optimize your HG system for administration. In this session we will cover the Dashboard tab and show you how you can see your center&#8217;s performance at a glance.  https://comelectronics.zohoshowtime.com/embedform#sessionId=3185967000000513044&amp;zaid=10010108523&amp;utm_st_source=embed&amp;header=true</p>
URL:https://comelectronics.com/event/higherground-dashboards-your-center-at-a-glance/
CATEGORIES:Advanced Training
END:VEVENT
BEGIN:VEVENT
DTSTART;TZID=America/Chicago:20210810T120000
DTEND;TZID=America/Chicago:20210810T130000
DTSTAMP:20260422T171022
CREATED:20210612T182328Z
LAST-MODIFIED:20210810T041111Z
UID:5124-1628596800-1628600400@comelectronics.com
SUMMARY:HigherGround Advanced User Settings
DESCRIPTION:Part one of the Power User Series\, learn the capabilities of the Application Menu Bar. This series will show you how to personalize and optimize your HG system for administration. In this session we will cover the Settings tab and how you can make your system work for you.  “   <p>Part one of the Power User Series\, learn the capabilities of the Application Menu Bar. This series will show you how to personalize and optimize your HG system for administration. In this session we will cover the Settings tab and how you can make your system work for you.  &#8220;https://comelectronics.zohoshowtime.com/embedform#sessionId=3185967000000513036&amp;zaid=10010108523&amp;utm_st_source=embed&amp;header=true</p>
URL:https://comelectronics.com/event/higherground-advanced-user-settings/
CATEGORIES:Advanced Training
END:VEVENT
BEGIN:VEVENT
DTSTART;VALUE=DATE:20210802
DTEND;VALUE=DATE:20210804
DTSTAMP:20260422T171022
CREATED:20210604T174419Z
LAST-MODIFIED:20210803T041112Z
UID:5054-1627862400-1628035199@comelectronics.com
SUMMARY:Sheriffs' Association Of Texas 143rd Annual Training Conference & Expo
DESCRIPTION:Henry B Gonzalez Convention Center   900 E Market St   San Antonio\, TX   78205  Exhibit Times: Monday\, August 02:  9:00 am – 5:00 pm Monday\, August 02:  6:00 pm – 8:00 pm – President’s Welcome Reception Tuesday\, August 03:  11:00 am – 5:00 pm  Exhibiting:  Live911 – Distance-Aware Real-Time Monitoring and V2 Shield Interview Room Recording System \n<p>Henry B Gonzalez Convention Center   900 E Market St   San Antonio\, TX   78205  Exhibit Times: Monday\, August 02:  9:00 am &#8211; 5:00 pm Monday\, August 02:  6:00 pm &#8211; 8:00 pm &#8211; President&#8217;s Welcome Reception Tuesday\, August 03:  11:00 am &#8211; 5:00 pm  Exhibiting:  Live911 &#8211; Distance-Aware Real-Time Monitoring and V2 Shield Interview Room Recording System</p>
URL:https://comelectronics.com/event/sheriffs-association-of-texas-143rd-annual-training-conference-expo/
CATEGORIES:Tradeshows
END:VEVENT
BEGIN:VEVENT
DTSTART;VALUE=DATE:20210728
DTEND;VALUE=DATE:20210730
DTSTAMP:20260422T171022
CREATED:20210529T164641Z
LAST-MODIFIED:20210624T204214Z
UID:5022-1627430400-1627603199@comelectronics.com
SUMMARY:Tennessee Association of Chiefs of Police (TACP) Annual Conference
DESCRIPTION:Knoxville Convention Center   701 Henley St   Knoxville\, TN  37902  Exhibit Hours:  Wednesday\, July 28:  4:00 pm – 7:00 pm Thursday\, July 29:  9:00 am – 4:00 pm   Exhibiting:  Live911 – Distance-Aware Real-Time Monitoring and V2 Shield Interview Room Recording System \n<p>Knoxville Convention Center   701 Henley St   Knoxville\, TN  37902  Exhibit Hours:  Wednesday\, July 28:  4:00 pm &#8211; 7:00 pm Thursday\, July 29:  9:00 am &#8211; 4:00 pm   Exhibiting:  Live911 &#8211; Distance-Aware Real-Time Monitoring and V2 Shield Interview Room Recording System</p>
URL:https://comelectronics.com/event/tennessee-association-of-chiefs-of-police-tacp-annual-conference/
CATEGORIES:Tradeshows
END:VEVENT
BEGIN:VEVENT
DTSTART;VALUE=DATE:20210727
DTEND;VALUE=DATE:20210730
DTSTAMP:20260422T171022
CREATED:20210427T132754Z
LAST-MODIFIED:20210729T034144Z
UID:4874-1627344000-1627603199@comelectronics.com
SUMMARY:Louisiana Sheriffs' and Wardens' Training Conference and Exhibition
DESCRIPTION:Hilton Sandestin Beach Golf Resort and Spa    4000 Sandestin Blvd. South   Destin/Miramar Beach\, FL   32550  Exhibiting:  V2 Shield Interview Room Recording System \n<p>Hilton Sandestin Beach Golf Resort and Spa    4000 Sandestin Blvd. South   Destin/Miramar Beach\, FL   32550  Exhibiting:  V2 Shield Interview Room Recording System</p>
URL:https://comelectronics.com/event/louisiana-sheriffs-and-wardens-training-conference-and-exhibition/
CATEGORIES:Tradeshows
END:VEVENT
BEGIN:VEVENT
DTSTART;VALUE=DATE:20210724
DTEND;VALUE=DATE:20210730
DTSTAMP:20260422T171022
CREATED:20210324T093722Z
LAST-MODIFIED:20210729T034144Z
UID:4663-1627084800-1627603199@comelectronics.com
SUMMARY:National NENA Conference
DESCRIPTION:Booth #: 1244 Greater Columbus Convention Center  400 N High St.   Columbus\, Ohio  43215  Exhibiting:  Live911 – Distance-Aware Real-Time Monitoring and HigherGround NG911 Voice Recording System \n<p>Booth #: 1244 Greater Columbus Convention Center  400 N High St.   Columbus\, Ohio  43215  Exhibiting:  Live911 &#8211; Distance-Aware Real-Time Monitoring and HigherGround NG911 Voice Recording System</p>
URL:https://comelectronics.com/event/national-nena-conference/
CATEGORIES:Tradeshows
END:VEVENT
BEGIN:VEVENT
DTSTART;TZID=America/Chicago:20210714T150000
DTEND;TZID=America/Chicago:20210714T160000
DTSTAMP:20260422T171022
CREATED:20210614T183405Z
LAST-MODIFIED:20210713T220110Z
UID:5147-1626274800-1626278400@comelectronics.com
SUMMARY:HigherGround Quality Assurance
DESCRIPTION:HG’s QA is a great tool for trainers and managers. At the end of this session you will know how to create customized QA forms for your agency\, and how to QA calls through your HG recording system.     <p>HG&#8217;s QA is a great tool for trainers and managers. At the end of this session you will know how to create customized QA forms for your agency\, and how to QA calls through your HG recording system.  https://comelectronics.zohoshowtime.com/embedform#sessionId=3185967000000513021&amp;zaid=10010108523&amp;utm_st_source=embed&amp;header=true</p>
URL:https://comelectronics.com/event/higherground-quality-assurance/
CATEGORIES:Advanced Training
END:VEVENT
BEGIN:VEVENT
DTSTART;TZID=America/Chicago:20210714T130000
DTEND;TZID=America/Chicago:20210714T140000
DTSTAMP:20260422T171022
CREATED:20210612T182328Z
LAST-MODIFIED:20210713T220110Z
UID:5123-1626267600-1626271200@comelectronics.com
SUMMARY:HigherGround V9 Quality Assurance
DESCRIPTION:HG’s QA is a great tool for trainers and managers. At the end of this session you will know how to create customized QA forms for your agency in the browser interface\, and how to QA calls through your HG recording system.     <p>HG&#8217;s QA is a great tool for trainers and managers. At the end of this session you will know how to create customized QA forms for your agency in the browser interface\, and how to QA calls through your HG recording system.  https://comelectronics.zohoshowtime.com/embedform#sessionId=3185967000000513028&amp;zaid=10010108523&amp;utm_st_source=embed&amp;header=true</p>
URL:https://comelectronics.com/event/higherground-v9-quality-assurance/
CATEGORIES:Advanced Training
END:VEVENT
BEGIN:VEVENT
DTSTART;VALUE=DATE:20210714
DTEND;VALUE=DATE:20210717
DTSTAMP:20260422T171022
CREATED:20210427T132754Z
LAST-MODIFIED:20210716T233554Z
UID:4873-1626220800-1626479999@comelectronics.com
SUMMARY:Pennsylvania Sheriffs' Association (PSA) Conference
DESCRIPTION:Booth #: 42  (Silver Sponsor)    Valley Forge Casino Resort    1160 First Ave   King of Prussia\, PA   19406  Exhibit Times:  Wednesday\, July 14:  12:00 pm – 4:00 pm  Thursday\, July 15:  8:00 am – 4:00 pm  Friday\, July 16:  8:00 am – 12:00 pm   Exhibiting:  Live911 – Distance-Aware Real-Time Monitoring and V2 Shield Interview Room Recording System \n<p>Booth #: 42  (Silver Sponsor)    Valley Forge Casino Resort    1160 First Ave   King of Prussia\, PA   19406  Exhibit Times:  Wednesday\, July 14:  12:00 pm &#8211; 4:00 pm  Thursday\, July 15:  8:00 am &#8211; 4:00 pm  Friday\, July 16:  8:00 am &#8211; 12:00 pm   Exhibiting:  Live911 &#8211; Distance-Aware Real-Time Monitoring and V2 Shield Interview Room Recording System</p>
URL:https://comelectronics.com/event/pennsylvania-sheriffs-association-psa-conference/
CATEGORIES:Tradeshows
END:VEVENT
BEGIN:VEVENT
DTSTART;VALUE=DATE:20210713
DTEND;VALUE=DATE:20210715
DTSTAMP:20260422T171022
CREATED:20210512T142905Z
LAST-MODIFIED:20210714T231131Z
UID:4939-1626134400-1626307199@comelectronics.com
SUMMARY:National Public Safety Educator Forum (NPEF) VIRTUAL Conference
DESCRIPTION:We are a Sponsor. \n<p>We are a Sponsor.</p>
URL:https://comelectronics.com/event/national-public-safety-educator-forum-npef-virtual-conference/
CATEGORIES:Tradeshows
END:VEVENT
BEGIN:VEVENT
DTSTART;VALUE=DATE:20210712
DTEND;VALUE=DATE:20210716
DTSTAMP:20260422T171022
CREATED:20210414T122754Z
LAST-MODIFIED:20210715T232924Z
UID:4816-1626048000-1626393599@comelectronics.com
SUMMARY:NAVIGATOR Conference
DESCRIPTION:Booth #: 605 ARIA Resort & Casino   3730 Las Vegas Boulevard South   Las Vegas\, Nevada   89158  Exhibit Hours: Monday\, July 12:  6:00 pm – 8:00 pm Tuesday\, July 13:  11:00 am – 4:00 pm Wednesday\, July 14:  8:00 am – 1:30 pm  Exhibiting:  HigherGround NG-911 Voice Recording System \n<p>Booth #: 605 ARIA Resort &amp; Casino   3730 Las Vegas Boulevard South   Las Vegas\, Nevada   89158  Exhibit Hours: Monday\, July 12:  6:00 pm &#8211; 8:00 pm Tuesday\, July 13:  11:00 am &#8211; 4:00 pm Wednesday\, July 14:  8:00 am &#8211; 1:30 pm  Exhibiting:  HigherGround NG-911 Voice Recording System</p>
URL:https://comelectronics.com/event/navigator-conference/
CATEGORIES:Tradeshows
END:VEVENT
BEGIN:VEVENT
DTSTART;TZID=America/Chicago:20210707T140000
DTEND;TZID=America/Chicago:20210707T150000
DTSTAMP:20260422T171022
CREATED:20210612T214427Z
LAST-MODIFIED:20210707T045622Z
UID:5130-1625666400-1625670000@comelectronics.com
SUMMARY:HigherGround V9 Basic Training
DESCRIPTION:This webinar will cover what is needed to effectively operate HG’s Capture911 Browser Interface. Including: personalizing screen layout; searching by filter and sorting the results; using playback and redaction; and saving and sharing interactions. This training will benefit: Dispatch\, Staff and New Hires      <p>This webinar will cover what is needed to effectively operate HG’s Capture911 Browser Interface. Including: personalizing screen layout; searching by filter and sorting the results; using playback and redaction; and saving and sharing interactions. This training will benefit: Dispatch\, Staff and New Hires   https://comelectronics.zohoshowtime.com/embedform#sessionId=3185967000000509011&amp;zaid=10010108523&amp;utm_st_source=embed&amp;header=true</p>
URL:https://comelectronics.com/event/higherground-v9-basic-training-2/
CATEGORIES:Basic Training
END:VEVENT
BEGIN:VEVENT
DTSTART;TZID=America/Chicago:20210707T120000
DTEND;TZID=America/Chicago:20210707T130000
DTSTAMP:20260422T171022
CREATED:20210622T234209Z
LAST-MODIFIED:20210707T041225Z
UID:5188-1625659200-1625662800@comelectronics.com
SUMMARY:Is Cancel Culture canceling your ability to do your job?
DESCRIPTION:Getting information from callers is difficult without the extra pressure of Cancel Culture. And what about managing employees? Can you still do that without violating the rules of Cancel Culture? Let’s talk about those new rules and what this new cultural movement is doing to your ability to do your job.
URL:https://comelectronics.com/event/is-cancel-culture-cancelling-your-ability-to-do-your-job/
CATEGORIES:Training
END:VEVENT
BEGIN:VEVENT
DTSTART;TZID=America/Chicago:20210706T140000
DTEND;TZID=America/Chicago:20210706T150000
DTSTAMP:20260422T171022
CREATED:20210612T214427Z
LAST-MODIFIED:20210706T044254Z
UID:5129-1625580000-1625583600@comelectronics.com
SUMMARY:HigherGround Basic Training
DESCRIPTION:Description This webinar will cover what is needed to effectively operate HG’s Capture911. Including: personalizing screen layout; searching by filter and sorting the results; using playback and redaction; and saving and sharing interactions. This training will benefit: Dispatch\, Staff and New Hires.     <p>Description This webinar will cover what is needed to effectively operate HG’s Capture911. Including: personalizing screen layout; searching by filter and sorting the results; using playback and redaction; and saving and sharing interactions. This training will benefit: Dispatch\, Staff and New Hires.  https://comelectronics.zohoshowtime.com/embedform#sessionId=3185967000000513005&amp;zaid=10010108523&amp;utm_st_source=embed&amp;header=true</p>
URL:https://comelectronics.com/event/higherground-basic-training-9/
CATEGORIES:Basic Training
END:VEVENT
BEGIN:VEVENT
DTSTART;TZID=America/Chicago:20210630T130000
DTEND;TZID=America/Chicago:20210630T140000
DTSTAMP:20260422T171022
CREATED:20210610T180516Z
LAST-MODIFIED:20210629T202804Z
UID:5104-1625058000-1625061600@comelectronics.com
SUMMARY:HigherGround V9 Manage Training
DESCRIPTION:You have learned the basics of the HigherGround V9 recording system. Now learn how to use Manage to customize your agency’s settings.
URL:https://comelectronics.com/event/higherground-v9-manage-training/
CATEGORIES:Advanced Training
END:VEVENT
BEGIN:VEVENT
DTSTART;TZID=America/Chicago:20210630T100000
DTEND;TZID=America/Chicago:20210630T110000
DTSTAMP:20260422T171022
CREATED:20210610T180516Z
LAST-MODIFIED:20210629T202804Z
UID:5103-1625047200-1625050800@comelectronics.com
SUMMARY:HigherGround Manage Training
DESCRIPTION:You have learned the basics of the HigherGround recording system. Now learn how to use Manage to customize your agency’s settings.
URL:https://comelectronics.com/event/higherground-manage-training/
CATEGORIES:Advanced Training
END:VEVENT
BEGIN:VEVENT
DTSTART;VALUE=DATE:20210623
DTEND;VALUE=DATE:20210626
DTSTAMP:20260422T171022
CREATED:20210410T120049Z
LAST-MODIFIED:20210625T205706Z
UID:4793-1624406400-1624665599@comelectronics.com
SUMMARY:Colorado Association of Chiefs of Police (CACP) Conference
DESCRIPTION:Booth #: 315 Keystone Resort and Conference Center   633 Tennis Club Rd.   Dillon\, CO   80435     Exhibit Times:  Thursday\, June 24:  10:00 am – 7:00 pm Friday\, June 25:  10:00 am – 4:00 pm  Exhibiting:  Live911 Distance-Aware Real-Time Monitoring and V2 Shield Interview Room Recording System \n<p>Booth #: 315 Keystone Resort and Conference Center   633 Tennis Club Rd.   Dillon\, CO   80435     Exhibit Times:  Thursday\, June 24:  10:00 am &#8211; 7:00 pm Friday\, June 25:  10:00 am &#8211; 4:00 pm  Exhibiting:  Live911 Distance-Aware Real-Time Monitoring and V2 Shield Interview Room Recording System</p>
URL:https://comelectronics.com/event/colorado-association-of-chiefs-of-police-cacp-conference/
CATEGORIES:Tradeshows
END:VEVENT
BEGIN:VEVENT
DTSTART;VALUE=DATE:20210622
DTEND;VALUE=DATE:20210626
DTSTAMP:20260422T171022
CREATED:20210410T120049Z
LAST-MODIFIED:20210625T205706Z
UID:4792-1624320000-1624665599@comelectronics.com
SUMMARY:Oklahoma Association Chiefs of Police (OACP) Conference
DESCRIPTION:Booth #: 44 Grand Casino Hotel & Resort    777 Grand Casino Blvd   Shawnee\, Oklahoma  74804  Exhibit Hours:  Wednesday\, June 23:  7:30 am – 5:00 pm Thursday\, June 24:  7:30 am – 5:00 pm Friday\, June 25:  7:30 am – 12:00 pm   Exhibiting:  Live911 Distance-Aware Real-Time Monitoring and V2 Shield Interview Room Recording System \n<p>Booth #: 44 Grand Casino Hotel &amp; Resort    777 Grand Casino Blvd   Shawnee\, Oklahoma  74804  Exhibit Hours:  Wednesday\, June 23:  7:30 am &#8211; 5:00 pm Thursday\, June 24:  7:30 am &#8211; 5:00 pm Friday\, June 25:  7:30 am &#8211; 12:00 pm   Exhibiting:  Live911 Distance-Aware Real-Time Monitoring and V2 Shield Interview Room Recording System</p>
URL:https://comelectronics.com/event/oklahoma-association-chiefs-of-police-oacp-conference/
CATEGORIES:Tradeshows
END:VEVENT
BEGIN:VEVENT
DTSTART;TZID=America/Chicago:20210617T130000
DTEND;TZID=America/Chicago:20210617T140000
DTSTAMP:20260422T171022
CREATED:20210608T214229Z
LAST-MODIFIED:20210616T222929Z
UID:5081-1623934800-1623938400@comelectronics.com
SUMMARY:HigherGround Basic Training
DESCRIPTION:This webinar will cover what is needed to effectively operate HG’s Capture911. Including: personalizing screen layout; searching by filter and sorting the results; using playback and redaction; and saving and sharing interactions. This training will benefit: Dispatch\, Staff and New Hires.     <p>This webinar will cover what is needed to effectively operate HG’s Capture911. Including: personalizing screen layout; searching by filter and sorting the results; using playback and redaction; and saving and sharing interactions. This training will benefit: Dispatch\, Staff and New Hires.  https://comelectronics.zohoshowtime.com/embedform#sessionId=3185967000000497022&amp;zaid=10010108523&amp;utm_st_source=embed&amp;header=true</p>
URL:https://comelectronics.com/event/higherground-basic-training-8/
CATEGORIES:Basic Training
END:VEVENT
BEGIN:VEVENT
DTSTART;VALUE=DATE:20210614
DTEND;VALUE=DATE:20210617
DTSTAMP:20260422T171022
CREATED:20210324T093721Z
LAST-MODIFIED:20210616T192727Z
UID:4662-1623628800-1623887999@comelectronics.com
SUMMARY:TX Chief Deputies Association Conference
DESCRIPTION:Hilton College Station & Conference Center   801 University Drive East   Bryan/College Station\, Texas   77840 Exhibit Hours:  Tuesday\, June 15:  8:00 am – 5:00 pm Wednesday\, June 16:  8:00 am – 5:00 pm   Exhibiting:  Live911 Distance-Aware Real-Time Monitoring and V2 Shield Interview Room Recording System \n<p>Hilton College Station &amp; Conference Center   801 University Drive East   Bryan/College Station\, Texas   77840 Exhibit Hours:  Tuesday\, June 15:  8:00 am &#8211; 5:00 pm Wednesday\, June 16:  8:00 am &#8211; 5:00 pm   Exhibiting:  Live911 Distance-Aware Real-Time Monitoring and V2 Shield Interview Room Recording System</p>
URL:https://comelectronics.com/event/tx-chief-deputies-association-conference/
CATEGORIES:Tradeshows
END:VEVENT
BEGIN:VEVENT
DTSTART;VALUE=DATE:20210609
DTEND;VALUE=DATE:20210611
DTSTAMP:20260422T171022
CREATED:20210408T114729Z
LAST-MODIFIED:20210610T185656Z
UID:4759-1623196800-1623369599@comelectronics.com
SUMMARY:Virginia Sheriffs' Association (VSA) Spring Conference
DESCRIPTION:Learn more at:  https://members.vasheriff.org/page/CommercialElectronics \n<p>Learn more at:  https://members.vasheriff.org/page/CommercialElectronics</p>
URL:https://comelectronics.com/event/virginia-sheriffs-association-vsa-spring-conference/
CATEGORIES:Tradeshows
END:VEVENT
END:VCALENDAR