BEGIN:VCALENDAR
VERSION:2.0
PRODID:-//Commercial Electronics - ECPv6.15.20//NONSGML v1.0//EN
CALSCALE:GREGORIAN
METHOD:PUBLISH
X-WR-CALNAME:Commercial Electronics
X-ORIGINAL-URL:https://comelectronics.com
X-WR-CALDESC:Events for Commercial Electronics
REFRESH-INTERVAL;VALUE=DURATION:PT1H
X-Robots-Tag:noindex
X-PUBLISHED-TTL:PT1H
BEGIN:VTIMEZONE
TZID:America/Chicago
BEGIN:DAYLIGHT
TZOFFSETFROM:-0600
TZOFFSETTO:-0500
TZNAME:CDT
DTSTART:20250309T080000
END:DAYLIGHT
BEGIN:STANDARD
TZOFFSETFROM:-0500
TZOFFSETTO:-0600
TZNAME:CST
DTSTART:20251102T070000
END:STANDARD
BEGIN:DAYLIGHT
TZOFFSETFROM:-0600
TZOFFSETTO:-0500
TZNAME:CDT
DTSTART:20260308T080000
END:DAYLIGHT
BEGIN:STANDARD
TZOFFSETFROM:-0500
TZOFFSETTO:-0600
TZNAME:CST
DTSTART:20261101T070000
END:STANDARD
BEGIN:DAYLIGHT
TZOFFSETFROM:-0600
TZOFFSETTO:-0500
TZNAME:CDT
DTSTART:20270314T080000
END:DAYLIGHT
BEGIN:STANDARD
TZOFFSETFROM:-0500
TZOFFSETTO:-0600
TZNAME:CST
DTSTART:20271107T070000
END:STANDARD
END:VTIMEZONE
BEGIN:VEVENT
DTSTART;VALUE=DATE:20260602
DTEND;VALUE=DATE:20260606
DTSTAMP:20260421T181248
CREATED:20260205T194510Z
LAST-MODIFIED:20260421T084533Z
UID:17934-1780426800-1780685999@comelectronics.com
SUMMARY:Illinois Juvenile Officer's Association (IJOA) Annual State Conference
DESCRIPTION:Friend of the Conference Sponsor\nBloomington-Normal Marriott Hotel & Conference Center  201 Broadway   Normal\, IL 61761 \n<p>Friend of the Conference Sponsor<br />\nBloomington-Normal Marriott Hotel &amp; Conference Center  201 Broadway   Normal\, IL 61761</p>
URL:https://comelectronics.com/event/illinois-juvenile-officers-association-ijoa-annual-state-conference/
CATEGORIES:Tradeshows
END:VEVENT
BEGIN:VEVENT
DTSTART;VALUE=DATE:20260603
DTEND;VALUE=DATE:20260605
DTSTAMP:20260421T181248
CREATED:20260220T231531Z
LAST-MODIFIED:20260421T084533Z
UID:18002-1780513200-1780599599@comelectronics.com
SUMMARY:Kansas CAC Director's Meeting
DESCRIPTION:Location:  TBA\nExhibiting:  V2 Advocate Interview Room Recording System \n<p>Location:  TBA<br />\nExhibiting:  V2 Advocate Interview Room Recording System</p>
URL:https://comelectronics.com/event/kansas-cac-directors-meeting-3/
CATEGORIES:Tradeshows
END:VEVENT
BEGIN:VEVENT
DTSTART;VALUE=DATE:20260628
DTEND;VALUE=DATE:20260702
DTSTAMP:20260421T181248
CREATED:20260219T230036Z
LAST-MODIFIED:20260421T084533Z
UID:17996-1782673200-1782932399@comelectronics.com
SUMMARY:National Children's Alliance Leadership Conference
DESCRIPTION:The Westin DC Downtown  999 9th Street Northwest Washington\, DC  20001\nExhibiting:  V2 Advocate Interview Room Recording System \n<p>The Westin DC Downtown  999 9th Street Northwest Washington\, DC  20001<br />\nExhibiting:  V2 Advocate Interview Room Recording System</p>
URL:https://comelectronics.com/event/national-childrens-alliance-leadership-conference/
CATEGORIES:Tradeshows
END:VEVENT
BEGIN:VEVENT
DTSTART;VALUE=DATE:20260705
DTEND;VALUE=DATE:20260709
DTSTAMP:20260421T181248
CREATED:20251101T214536Z
LAST-MODIFIED:20260421T084533Z
UID:17536-1783278000-1783537199@comelectronics.com
SUMMARY:13th Annual TASRO School Safety Conference
DESCRIPTION:Omni Corpus Christi   900 North Shoreline Dr.  Corpus Christi\, TX   78401\nExhibit Times:\nMonday\, July 06:  7:30 am – 5:00 pm\nTuesday\, July 07:  7:30 am – 5:00 pm\nWednesday\, July 08:  7:30 am – 5:00 pm\nExhibiting:  V2 Shield Interview Room Recording System and Live911 – Distance-Aware Real-Time Monitoring \n<p>Omni Corpus Christi   900 North Shoreline Dr.  Corpus Christi\, TX   78401<br />\nExhibit Times:<br />\nMonday\, July 06:  7:30 am &#8211; 5:00 pm<br />\nTuesday\, July 07:  7:30 am &#8211; 5:00 pm<br />\nWednesday\, July 08:  7:30 am &#8211; 5:00 pm<br />\nExhibiting:  V2 Shield Interview Room Recording System and Live911 &#8211; Distance-Aware Real-Time Monitoring</p>
URL:https://comelectronics.com/event/13th-annual-tasro-school-safety-conference/
CATEGORIES:Tradeshows
END:VEVENT
BEGIN:VEVENT
DTSTART;VALUE=DATE:20260718
DTEND;VALUE=DATE:20260721
DTSTAMP:20260421T181248
CREATED:20260409T184514Z
LAST-MODIFIED:20260421T084533Z
UID:18204-1784401200-1784573999@comelectronics.com
SUMMARY:Sheriffs' Association of Texas 148th Annual Training Conference & Expo
DESCRIPTION:Fort Worth Convention Center  1201 Houston Rd. Fort Worth\, TX 76102\nExhibit Times:\nSunday\, July 19:  12:00 pm – 4:30 pm\nMonday\, July 20:  12:00 pm – 5:00 pm\nExhibiting: Live911 – Distance-Aware Real-Time Monitoring and V2 Shield Interview Room Recording System \n<p>Fort Worth Convention Center  1201 Houston Rd. Fort Worth\, TX 76102<br />\nExhibit Times:<br />\nSunday\, July 19:  12:00 pm &#8211; 4:30 pm<br />\nMonday\, July 20:  12:00 pm &#8211; 5:00 pm<br />\nExhibiting: Live911 &#8211; Distance-Aware Real-Time Monitoring and V2 Shield Interview Room Recording System</p>
URL:https://comelectronics.com/event/sheriffs-association-of-texas-148th-annual-training-conference-expo/
CATEGORIES:Tradeshows
END:VEVENT
BEGIN:VEVENT
DTSTART;VALUE=DATE:20260802
DTEND;VALUE=DATE:20260805
DTSTAMP:20260421T181248
CREATED:20260410T190014Z
LAST-MODIFIED:20260421T084533Z
UID:18210-1785697200-1785869999@comelectronics.com
SUMMARY:APCO Conference
DESCRIPTION:Booth #: 3220\nHenry B. González Convention Center  900 E Market Street  San Antonio\, TX 78205\nExhibit Times:\nMonday\, Aug 03:  10:00 am – 5:00 pm\nTuesday\, Aug 04:  10:00 am – 3:00 pm\nExhibiting:  HigherGround NG-911 Voice Recording System and Live911 – Distance-Aware Real-Time Monitoring \n<p>Booth #: 3220<br />\nHenry B. González Convention Center  900 E Market Street  San Antonio\, TX 78205<br />\nExhibit Times:<br />\nMonday\, Aug 03:  10:00 am &#8211; 5:00 pm<br />\nTuesday\, Aug 04:  10:00 am &#8211; 3:00 pm<br />\nExhibiting:  HigherGround NG-911 Voice Recording System and Live911 &#8211; Distance-Aware Real-Time Monitoring</p>
URL:https://comelectronics.com/event/apco-conference-4/
CATEGORIES:Tradeshows
END:VEVENT
BEGIN:VEVENT
DTSTART;VALUE=DATE:20261108
DTEND;VALUE=DATE:20261111
DTSTAMP:20260421T181248
CREATED:20260216T221520Z
LAST-MODIFIED:20260421T084533Z
UID:17982-1794160800-1794333599@comelectronics.com
SUMMARY:Kansas Child Advocacy Champions Summit
DESCRIPTION:Supporter Sponsor\nWSU Eugene M. Hughes Metropolitan Complex   5015 East 29th St N Wichita\, KS 67220 \n<p>Supporter Sponsor<br />\nWSU Eugene M. Hughes Metropolitan Complex   5015 East 29th St N Wichita\, KS 67220</p>
URL:https://comelectronics.com/event/kansas-child-advocacy-champions-summit/
CATEGORIES:Tradeshows
END:VEVENT
END:VCALENDAR