BEGIN:VCALENDAR
VERSION:2.0
PRODID:-//Commercial Electronics - ECPv6.15.20//NONSGML v1.0//EN
CALSCALE:GREGORIAN
METHOD:PUBLISH
X-WR-CALNAME:Commercial Electronics
X-ORIGINAL-URL:https://comelectronics.com
X-WR-CALDESC:Events for Commercial Electronics
REFRESH-INTERVAL;VALUE=DURATION:PT1H
X-Robots-Tag:noindex
X-PUBLISHED-TTL:PT1H
BEGIN:VTIMEZONE
TZID:America/Chicago
BEGIN:DAYLIGHT
TZOFFSETFROM:-0600
TZOFFSETTO:-0500
TZNAME:CDT
DTSTART:20230312T080000
END:DAYLIGHT
BEGIN:STANDARD
TZOFFSETFROM:-0500
TZOFFSETTO:-0600
TZNAME:CST
DTSTART:20231105T070000
END:STANDARD
BEGIN:DAYLIGHT
TZOFFSETFROM:-0600
TZOFFSETTO:-0500
TZNAME:CDT
DTSTART:20240310T080000
END:DAYLIGHT
BEGIN:STANDARD
TZOFFSETFROM:-0500
TZOFFSETTO:-0600
TZNAME:CST
DTSTART:20241103T070000
END:STANDARD
BEGIN:DAYLIGHT
TZOFFSETFROM:-0600
TZOFFSETTO:-0500
TZNAME:CDT
DTSTART:20250309T080000
END:DAYLIGHT
BEGIN:STANDARD
TZOFFSETFROM:-0500
TZOFFSETTO:-0600
TZNAME:CST
DTSTART:20251102T070000
END:STANDARD
BEGIN:DAYLIGHT
TZOFFSETFROM:-0600
TZOFFSETTO:-0500
TZNAME:CDT
DTSTART:20260308T080000
END:DAYLIGHT
BEGIN:STANDARD
TZOFFSETFROM:-0500
TZOFFSETTO:-0600
TZNAME:CST
DTSTART:20261101T070000
END:STANDARD
BEGIN:DAYLIGHT
TZOFFSETFROM:-0600
TZOFFSETTO:-0500
TZNAME:CDT
DTSTART:20270314T080000
END:DAYLIGHT
BEGIN:STANDARD
TZOFFSETFROM:-0500
TZOFFSETTO:-0600
TZNAME:CST
DTSTART:20271107T070000
END:STANDARD
END:VTIMEZONE
BEGIN:VEVENT
DTSTART;VALUE=DATE:20260330
DTEND;VALUE=DATE:20260402
DTSTAMP:20260421T194757
CREATED:20251101T214536Z
LAST-MODIFIED:20260401T171529Z
UID:17535-1774897200-1775069999@comelectronics.com
SUMMARY:TX Police Chiefs Association Conference
DESCRIPTION:Booth #: 1515\nHilliard Center (Formerly American Bank Center)  1901 N Shoreline Blvd.  Corpus Christi\, TX  78401\nExhibit Times:\nTuesday\, March 31:  11:45 am – 5:00 pm\nWednesday\, April 01:  8:00 am – 3:30 pm\nExhibiting:  V2 Shield Interview Room Recording System and Live911 – Distance-Aware Real-Time Monitoring \n<p>Booth #: 1515<br />\nHilliard Center (Formerly American Bank Center)  1901 N Shoreline Blvd.  Corpus Christi\, TX  78401<br />\nExhibit Times:<br />\nTuesday\, March 31:  11:45 am &#8211; 5:00 pm<br />\nWednesday\, April 01:  8:00 am &#8211; 3:30 pm<br />\nExhibiting:  V2 Shield Interview Room Recording System and Live911 &#8211; Distance-Aware Real-Time Monitoring</p>
URL:https://comelectronics.com/event/tx-police-chiefs-association-conference/
CATEGORIES:Tradeshows
END:VEVENT
BEGIN:VEVENT
DTSTART;VALUE=DATE:20260328
DTEND;VALUE=DATE:20260402
DTSTAMP:20260421T194757
CREATED:20260131T183028Z
LAST-MODIFIED:20260401T171530Z
UID:17907-1774724400-1775069999@comelectronics.com
SUMMARY:TX Public Safety Conference
DESCRIPTION:Booth #: 74\nCameo Sponsor\nEmbassy Suites by Hilton Denton Convention Center  3100 Town Center Trail  Denton\, TX  76201\nSunday\, March 29:  7 pm – 10 pm – Awards Gala\nExhibit Times:\nTuesday\, March 31:  10:00 am – 3:00 pm – IP Hall Grand Opening\nWednesday\, April 01:  10:00 am – 1:00 pm\nExhibiting:  HigherGround NG-911 Voice Recording System and Live911 – Distance-Aware Real-Time Monitoring \n<p>Booth #: 74<br />\nCameo Sponsor<br />\nEmbassy Suites by Hilton Denton Convention Center  3100 Town Center Trail  Denton\, TX  76201<br />\nSunday\, March 29:  7 pm &#8211; 10 pm &#8211; Awards Gala<br />\nExhibit Times:<br />\nTuesday\, March 31:  10:00 am &#8211; 3:00 pm &#8211; IP Hall Grand Opening<br />\nWednesday\, April 01:  10:00 am &#8211; 1:00 pm<br />\nExhibiting:  HigherGround NG-911 Voice Recording System and Live911 &#8211; Distance-Aware Real-Time Monitoring</p>
URL:https://comelectronics.com/event/tx-public-safety-conference/
CATEGORIES:Tradeshows
END:VEVENT
BEGIN:VEVENT
DTSTART;VALUE=DATE:20260315
DTEND;VALUE=DATE:20260320
DTSTAMP:20260421T194757
CREATED:20251106T230032Z
LAST-MODIFIED:20260319T080034Z
UID:17561-1773601200-1773946799@comelectronics.com
SUMMARY:42nd International Symposium on Child Abuse Conference
DESCRIPTION:Von Braun Center 700 Monroe St SW Huntsville\, Alabama 35801\nExhibit Times:\nMonday\, March 16: 2:30 pm – 4:30 pm\nTuesday\, March 17:  8:00 am – 5:00 pm\nWednesday\, March 18:  8:00 am – 5:00 pm\nThursday\, March 19:  8:00 am – 12:00 pm\nExhibiting: V2 Advocate Interview Room Recording System \n<p>Von Braun Center 700 Monroe St SW Huntsville\, Alabama 35801<br />\nExhibit Times:<br />\nMonday\, March 16: 2:30 pm &#8211; 4:30 pm<br />\nTuesday\, March 17:  8:00 am &#8211; 5:00 pm<br />\nWednesday\, March 18:  8:00 am &#8211; 5:00 pm<br />\nThursday\, March 19:  8:00 am &#8211; 12:00 pm<br />\nExhibiting: V2 Advocate Interview Room Recording System</p>
URL:https://comelectronics.com/event/42nd-international-symposium-on-child-abuse-conference/
CATEGORIES:Tradeshows
END:VEVENT
BEGIN:VEVENT
DTSTART;VALUE=DATE:20260302
DTEND;VALUE=DATE:20260306
DTSTAMP:20260421T194757
CREATED:20260131T183027Z
LAST-MODIFIED:20260305T043023Z
UID:17906-1772474400-1772733599@comelectronics.com
SUMMARY:17th Annual Champions of Children Illinois Conference
DESCRIPTION:Sponsor\nHyatt Regency  1800 E Golf Rd\, Schaumburg\, IL 60173 \n<p>Sponsor<br />\nHyatt Regency  1800 E Golf Rd\, Schaumburg\, IL 60173</p>
URL:https://comelectronics.com/event/17th-annual-champions-of-children-illinois-conference/
CATEGORIES:Tradeshows
END:VEVENT
BEGIN:VEVENT
DTSTART;VALUE=DATE:20251116
DTEND;VALUE=DATE:20251120
DTSTAMP:20260421T194757
CREATED:20250501T181511Z
LAST-MODIFIED:20250718T031548Z
UID:16554-1763316000-1763575199@comelectronics.com
SUMMARY:Connecting for Children's Justice Conference
DESCRIPTION:Sonesta Nashville Airport  600 Marriott Dr  Nashville\, TN 37214\nExhibiting:  V2 Advocate Interview Room Recording \n<p>Sonesta Nashville Airport  600 Marriott Dr  Nashville\, TN 37214<br />\nExhibiting:  V2 Advocate Interview Room Recording</p>
URL:https://comelectronics.com/event/connecting-for-childrens-justice-conference-5/
CATEGORIES:Tradeshows
END:VEVENT
BEGIN:VEVENT
DTSTART;VALUE=DATE:20251102
DTEND;VALUE=DATE:20251105
DTSTAMP:20260421T194757
CREATED:20251101T214536Z
LAST-MODIFIED:20251103T221542Z
UID:17534-1762106400-1762279199@comelectronics.com
SUMMARY:Arkansas APCO/NENA Conference
DESCRIPTION:Oaklawn Casino Resort and Hotel (Oaklawn Conference Center)   2705 Central Avenue  Hot Springs\, AR\, 71901\nExhibiting:  Live911 – Distance-Aware Real-Time Monitoring and HigherGround NG-911 Voice Recording System \n<p>Oaklawn Casino Resort and Hotel (Oaklawn Conference Center)   2705 Central Avenue  Hot Springs\, AR\, 71901<br />\nExhibiting:  Live911 &#8211; Distance-Aware Real-Time Monitoring and HigherGround NG-911 Voice Recording System</p>
URL:https://comelectronics.com/event/arkansas-apco-nena-conference-2/
CATEGORIES:Tradeshows
END:VEVENT
BEGIN:VEVENT
DTSTART;VALUE=DATE:20251005
DTEND;VALUE=DATE:20251008
DTSTAMP:20260421T194757
CREATED:20250501T181511Z
LAST-MODIFIED:20250718T031548Z
UID:16553-1759690800-1759863599@comelectronics.com
SUMMARY:Idaho 911 PSAP Conference
DESCRIPTION:Riverside Hotel   2900 Chinden Blvd.  Boise\, Idaho 83714\nExhibit Hours:\nMonday\, Oct 06: 5:30 pm – 8:00 pm\nTuesday\, Oct 07: 7:30 am – 5:00 pm\nExhibiting: Live911 – Distance-Aware Real-Time Monitoring and HigherGround NG-911 Voice Recording System \n<p>Riverside Hotel   2900 Chinden Blvd.  Boise\, Idaho 83714<br />\nExhibit Hours:<br />\nMonday\, Oct 06: 5:30 pm &#8211; 8:00 pm<br />\nTuesday\, Oct 07: 7:30 am &#8211; 5:00 pm<br />\nExhibiting: Live911 &#8211; Distance-Aware Real-Time Monitoring and HigherGround NG-911 Voice Recording System</p>
URL:https://comelectronics.com/event/idaho-911-psap-conference-5/
CATEGORIES:Tradeshows
END:VEVENT
BEGIN:VEVENT
DTSTART;VALUE=DATE:20250712
DTEND;VALUE=DATE:20250715
DTSTAMP:20260421T194757
CREATED:20250409T100009Z
LAST-MODIFIED:20250715T000025Z
UID:16436-1752346800-1752519599@comelectronics.com
SUMMARY:Sheriffs' Association of Texas 147th Annual Training Conference & Expo
DESCRIPTION:Booth #: 634\nFort Worth Convention Center  1201 Houston Rd. Fort Worth\, TX 76102\nExhibit Times:\nSunday\, July 13: 12:00 pm – 5:00 pm\nMonday\, July 14: 12:00 pm – 5:00 pm\nExhibiting: Live911 – Distance-Aware Real-Time Monitoring and HigherGround NG-911 Voice Recording System \n<p>Booth #: 634<br />\nFort Worth Convention Center  1201 Houston Rd. Fort Worth\, TX 76102<br />\nExhibit Times:<br />\nSunday\, July 13: 12:00 pm &#8211; 5:00 pm<br />\nMonday\, July 14: 12:00 pm &#8211; 5:00 pm<br />\nExhibiting: Live911 &#8211; Distance-Aware Real-Time Monitoring and HigherGround NG-911 Voice Recording System</p>
URL:https://comelectronics.com/event/sheriffs-association-of-texas-147th-annual-training-conference-expo/
CATEGORIES:Tradeshows
END:VEVENT
BEGIN:VEVENT
DTSTART;VALUE=DATE:20250705
DTEND;VALUE=DATE:20250709
DTSTAMP:20260421T194757
CREATED:20250130T154526Z
LAST-MODIFIED:20250708T230035Z
UID:16088-1751742000-1752001199@comelectronics.com
SUMMARY:35th Annual NASRO School Safety Conference
DESCRIPTION:Booth #326\nGaylord Texan   1501 Gaylord Trail  Grapevine\, TX  76051\nExhibit Times:\nSunday\, July 6:  2:30 pm – 6:30 pm\nMonday\, July 7:  7:30 am – 4:00 pm\nTuesday\, July 8:  9:00 am – 1:00 pm\nExhibiting:  V2 Shield Interview Room Recording System and Live911 – Distance-Aware Real-Time Monitoring \n<p>Booth #326<br />\nGaylord Texan   1501 Gaylord Trail  Grapevine\, TX  76051<br />\nExhibit Times:<br />\nSunday\, July 6:  2:30 pm &#8211; 6:30 pm<br />\nMonday\, July 7:  7:30 am &#8211; 4:00 pm<br />\nTuesday\, July 8:  9:00 am &#8211; 1:00 pm<br />\nExhibiting:  V2 Shield Interview Room Recording System and Live911 &#8211; Distance-Aware Real-Time Monitoring</p>
URL:https://comelectronics.com/event/35th-annual-nasro-school-safety-conference/
CATEGORIES:Tradeshows
END:VEVENT
BEGIN:VEVENT
DTSTART;VALUE=DATE:20250608
DTEND;VALUE=DATE:20250612
DTSTAMP:20260421T194757
CREATED:20250221T203036Z
LAST-MODIFIED:20250609T050036Z
UID:16202-1749409200-1749668399@comelectronics.com
SUMMARY:NCA Leadership Conference
DESCRIPTION:Booth #: 3\nThe Westin Washington D.C. Downtown Hotel\n999 9th Street NW\, Washington\, DC 20001\nExhibit Times:\nMonday\, June 09:  7:30 am – 5:00 pm\nTuesday\, June 10:  8:00 am – 12:45 pm\nWednesday\, June 11:  8:00 am – 11:15 am\nExhibiting: V2 Advocate Interview Room Recording System \n<p>Booth #: 3<br />\nThe Westin Washington D.C. Downtown Hotel<br />\n999 9th Street NW\, Washington\, DC 20001<br />\nExhibit Times:<br />\nMonday\, June 09:  7:30 am &#8211; 5:00 pm<br />\nTuesday\, June 10:  8:00 am &#8211; 12:45 pm<br />\nWednesday\, June 11:  8:00 am &#8211; 11:15 am<br />\nExhibiting: V2 Advocate Interview Room Recording System</p>
URL:https://comelectronics.com/event/nca-leadership-conference-3/
CATEGORIES:Tradeshows
END:VEVENT
BEGIN:VEVENT
DTSTART;VALUE=DATE:20250414
DTEND;VALUE=DATE:20250417
DTSTAMP:20260421T194757
CREATED:20241024T043543Z
LAST-MODIFIED:20250416T114559Z
UID:15589-1744657200-1744829999@comelectronics.com
SUMMARY:Texas Police Chiefs Association Conference
DESCRIPTION:Booth#: 801\nGalveston Island Convention Center at The San Luis Resort 5600 Seawall Blvd Galveston\, TX 77551\nExhibit Times:\nTuesday\, April 15: 3:00 pm – 5:00 pm\nTuesday\, April 15: 5:00 pm – 7:00 pm – President’s Welcome Reception\nWednesday\, April 16: 10:00 am – 5:00 pm\nExhibiting:\nLive911 – Distance-Aware Real-Time Monitoring and V2 Shield Interview Room Recording System \n<p>Booth#: 801<br />\nGalveston Island Convention Center at The San Luis Resort 5600 Seawall Blvd Galveston\, TX 77551<br />\nExhibit Times:<br />\nTuesday\, April 15: 3:00 pm &#8211; 5:00 pm<br />\nTuesday\, April 15: 5:00 pm &#8211; 7:00 pm &#8211; President&#8217;s Welcome Reception<br />\nWednesday\, April 16: 10:00 am &#8211; 5:00 pm<br />\nExhibiting:<br />\nLive911 &#8211; Distance-Aware Real-Time Monitoring and V2 Shield Interview Room Recording System</p>
URL:https://comelectronics.com/event/texas-police-chiefs-association-conference-3/
CATEGORIES:Tradeshows
END:VEVENT
BEGIN:VEVENT
DTSTART;VALUE=DATE:20250401
DTEND;VALUE=DATE:20250406
DTSTAMP:20260421T194757
CREATED:20241211T120512Z
LAST-MODIFIED:20250405T090027Z
UID:15831-1743534000-1743879599@comelectronics.com
SUMMARY:Texas Public Safety Conference
DESCRIPTION:Booth #: 33\nBluebonnet Sponsor\nMcAllen Convention Center   700 Convention Center Blvd.   McAllen\, TX    78501\nExhibit Times:\nThursday\, April 03:  10:00 am – 3:00 pm\nFriday\, April 04:  9:00 am – 1:00 pm\nExhibiting: Live911 – Distance-Aware Real-Time Monitoring and HigherGround NG911 Voice Recording System \n<p>Booth #: 33<br />\nBluebonnet Sponsor<br />\nMcAllen Convention Center   700 Convention Center Blvd.   McAllen\, TX    78501<br />\nExhibit Times:<br />\nThursday\, April 03:  10:00 am &#8211; 3:00 pm<br />\nFriday\, April 04:  9:00 am &#8211; 1:00 pm<br />\nExhibiting: Live911 &#8211; Distance-Aware Real-Time Monitoring and HigherGround NG911 Voice Recording System</p>
URL:https://comelectronics.com/event/texas-public-safety-conference-4/
CATEGORIES:Tradeshows
END:VEVENT
BEGIN:VEVENT
DTSTART;VALUE=DATE:20250316
DTEND;VALUE=DATE:20250321
DTSTAMP:20260421T194757
CREATED:20241011T230516Z
LAST-MODIFIED:20250320T053018Z
UID:15526-1742151600-1742497199@comelectronics.com
SUMMARY:41st International Symposium on Child Abuse Conference
DESCRIPTION:Von Braun Center 700 Monroe St SW Huntsville\, Alabama 35801\nExhibit Times:\nMonday\, March 17: 2:00 pm – 4:30 pm\nTuesday\, March 18: 7:30 am – 5:45 pm\nWednesday\, March 19: 7:30 am – 5:45 pm\nThursday\, March 20: 7:30 am – 12:00 pm\nExhibiting: V2 Advocate Interview Room Recording System \n<p>Von Braun Center 700 Monroe St SW Huntsville\, Alabama 35801<br />\nExhibit Times:<br />\nMonday\, March 17: 2:00 pm &#8211; 4:30 pm<br />\nTuesday\, March 18: 7:30 am &#8211; 5:45 pm<br />\nWednesday\, March 19: 7:30 am &#8211; 5:45 pm<br />\nThursday\, March 20: 7:30 am &#8211; 12:00 pm<br />\nExhibiting: V2 Advocate Interview Room Recording System</p>
URL:https://comelectronics.com/event/41st-international-symposium-on-child-abuse-conference/
CATEGORIES:Tradeshows
END:VEVENT
BEGIN:VEVENT
DTSTART;VALUE=DATE:20250305
DTEND;VALUE=DATE:20250307
DTSTAMP:20260421T194757
CREATED:20250116T123026Z
LAST-MODIFIED:20250306T234542Z
UID:16015-1741197600-1741283999@comelectronics.com
SUMMARY:Kansas CAC Director's Meeting
DESCRIPTION:Butler Community College of El Dorado   Welcome Center\n2000 Building  901 S Haverhill Rd\, El Dorado\, KS 67042\nPresenting: V2 Advocate Interview Room Recording System \n<p>Butler Community College of El Dorado   Welcome Center<br />\n2000 Building  901 S Haverhill Rd\, El Dorado\, KS 67042<br />\nPresenting: V2 Advocate Interview Room Recording System</p>
URL:https://comelectronics.com/event/kansas-cac-directors-meeting-2/
CATEGORIES:Tradeshows
END:VEVENT
BEGIN:VEVENT
DTSTART;VALUE=DATE:20250303
DTEND;VALUE=DATE:20250307
DTSTAMP:20260421T194757
CREATED:20241222T142019Z
LAST-MODIFIED:20250306T234542Z
UID:15888-1741024800-1741283999@comelectronics.com
SUMMARY:16th Annual Champions of Children Illinois Conference
DESCRIPTION:Sponsor\nHyatt Regency  1800 E Golf Rd\, Schaumburg\, IL 60173 \n<p>Sponsor<br />\nHyatt Regency  1800 E Golf Rd\, Schaumburg\, IL 60173</p>
URL:https://comelectronics.com/event/16th-annual-champions-of-children-illinois-conference/
CATEGORIES:Tradeshows
END:VEVENT
BEGIN:VEVENT
DTSTART;VALUE=DATE:20250129
DTEND;VALUE=DATE:20250131
DTSTAMP:20260421T194757
CREATED:20250116T123025Z
LAST-MODIFIED:20250130T154526Z
UID:16014-1738173600-1738259999@comelectronics.com
SUMMARY:Arkansas CAC Director's Meeting
DESCRIPTION:Children’s Advocacy Centers of Arkansas   124 West Capitol Avenue\, Suite 1630   Little Rock\, AR 72201\nPresenting:  V2 Advocate Interview Room Recording System \n<p>Children’s Advocacy Centers of Arkansas   124 West Capitol Avenue\, Suite 1630   Little Rock\, AR 72201<br />\nPresenting:  V2 Advocate Interview Room Recording System</p>
URL:https://comelectronics.com/event/arkansas-cac-directors-meeting-2/
CATEGORIES:Tradeshows
END:VEVENT
BEGIN:VEVENT
DTSTART;VALUE=DATE:20241117
DTEND;VALUE=DATE:20241121
DTSTAMP:20260421T194757
CREATED:20240802T070509Z
LAST-MODIFIED:20241118T102026Z
UID:15162-1731866400-1732125599@comelectronics.com
SUMMARY:Connecting for Children's Justice Conference
DESCRIPTION:Sonesta Nashville Airport  600 Marriott Dr  Nashville\, TN 37214\nExhibit Times:\nMonday\, Nov 18:  11 am – 4:30 pm\nTuesday\, Nov 19:  8:30 am – 4:30 pm\nWednesday\, Nov 20:  8:30 am – 12:00 pm\nExhibiting:  V2 Advocate Interview Room Recording \n<p>Sonesta Nashville Airport  600 Marriott Dr  Nashville\, TN 37214<br />\nExhibit Times:<br />\nMonday\, Nov 18:  11 am &#8211; 4:30 pm<br />\nTuesday\, Nov 19:  8:30 am &#8211; 4:30 pm<br />\nWednesday\, Nov 20:  8:30 am &#8211; 12:00 pm<br />\nExhibiting:  V2 Advocate Interview Room Recording</p>
URL:https://comelectronics.com/event/connecting-for-childrens-justice-conference-4/
CATEGORIES:Tradeshows
END:VEVENT
BEGIN:VEVENT
DTSTART;VALUE=DATE:20241027
DTEND;VALUE=DATE:20241030
DTSTAMP:20260421T194757
CREATED:20240801T065042Z
LAST-MODIFIED:20241029T053540Z
UID:15154-1730055600-1730228399@comelectronics.com
SUMMARY:Arkansas APCO/NENA Conference
DESCRIPTION:Booth #9 – Bronze Sponsor\nOaklawn Conference Center  2705 Central Avenue  Hot Springs\, Arkansas   71901\nExhibit Times:\nMonday\, Oct 28:  8:00 am – 5:30 pm\nTuesday\, Oct 29:  8:00 am – 3:00 pm\nExhibiting: HigherGround NG-911 Voice Recording System and Live911 – Distance-Aware Real-Time Monitoring \n<p>Booth #9 &#8211; Bronze Sponsor<br />\nOaklawn Conference Center  2705 Central Avenue  Hot Springs\, Arkansas   71901<br />\nExhibit Times:<br />\nMonday\, Oct 28:  8:00 am &#8211; 5:30 pm<br />\nTuesday\, Oct 29:  8:00 am &#8211; 3:00 pm<br />\nExhibiting: HigherGround NG-911 Voice Recording System and Live911 &#8211; Distance-Aware Real-Time Monitoring</p>
URL:https://comelectronics.com/event/2024-arkansas-apco-nena-conference/
CATEGORIES:Tradeshows
END:VEVENT
BEGIN:VEVENT
DTSTART;VALUE=DATE:20241015
DTEND;VALUE=DATE:20241017
DTSTAMP:20260421T194757
CREATED:20240819T112012Z
LAST-MODIFIED:20241016T023526Z
UID:15250-1729018800-1729105199@comelectronics.com
SUMMARY:Illinois CAC Annual Director's Meeting and Conference
DESCRIPTION:Bloomington/Normal Marriott\n201 Broadway\nNormal\, IL  61761\nPresenting: V2 Advocate Interview Room Recording System \n<p>Bloomington/Normal Marriott<br />\n201 Broadway<br />\nNormal\, IL  61761<br />\nPresenting: V2 Advocate Interview Room Recording System</p>
URL:https://comelectronics.com/event/illinois-cac-annual-directors-meeting-and-conference-2/
CATEGORIES:Tradeshows
END:VEVENT
BEGIN:VEVENT
DTSTART;VALUE=DATE:20241006
DTEND;VALUE=DATE:20241010
DTSTAMP:20260421T194757
CREATED:20240430T142037Z
LAST-MODIFIED:20241008T222022Z
UID:14690-1728241200-1728500399@comelectronics.com
SUMMARY:Idaho 911 PSAP Conference
DESCRIPTION:Coeur d’Alene Inn / Best Western Plus   506 W Appleway Ave.  Coeur d’Alene\,  Idaho   83814Exhibit Hours: Monday\, Oct 07:  5:00 pm – 8:00 pm Tuesday\, Oct 08:  7:30 am – 5:00 pm Exhibiting:  Live911 – Distance-Aware Real-Time Monitoring and HigherGround NG-911 Voice Recording System \n<p>Coeur d’Alene Inn / Best Western Plus   506 W Appleway Ave.  Coeur d&#8217;Alene\,  Idaho   83814Exhibit Hours: Monday\, Oct 07:  5:00 pm &#8211; 8:00 pm Tuesday\, Oct 08:  7:30 am &#8211; 5:00 pm Exhibiting:  Live911 &#8211; Distance-Aware Real-Time Monitoring and HigherGround NG-911 Voice Recording System</p>
URL:https://comelectronics.com/event/idaho-911-psap-conference-4/
CATEGORIES:Tradeshows
END:VEVENT
BEGIN:VEVENT
DTSTART;VALUE=DATE:20240930
DTEND;VALUE=DATE:20241003
DTSTAMP:20260421T194757
CREATED:20240802T070509Z
LAST-MODIFIED:20241002T211646Z
UID:15160-1727722800-1727895599@comelectronics.com
SUMMARY:New York State Children's Alliance (NYSCA's) Leadership Conference
DESCRIPTION:Brooklyn Bridge Sponsor\nHoliday Inn Saratoga Springs   232 Broadway  Saratoga Springs\, New York  12866\nExhibiting:  V2 Advocate Interview Room Recording System \n<p>Brooklyn Bridge Sponsor<br />\nHoliday Inn Saratoga Springs   232 Broadway  Saratoga Springs\, New York  12866<br />\nExhibiting:  V2 Advocate Interview Room Recording System</p>
URL:https://comelectronics.com/event/new-york-state-childrens-alliance-nyscas-leadership-conference/
CATEGORIES:Tradeshows
END:VEVENT
BEGIN:VEVENT
DTSTART;VALUE=DATE:20240922
DTEND;VALUE=DATE:20240925
DTSTAMP:20260421T194757
CREATED:20240828T132015Z
LAST-MODIFIED:20240924T192039Z
UID:15297-1727031600-1727204399@comelectronics.com
SUMMARY:Kansas APCO Conference
DESCRIPTION:Bronze Sponsor\nDrury Broadview Plaza   400 W. Douglas Ave.  Wichita\, KS  67202\nExhibit Times:\nMonday\, Sept 23:  1:00 pm – 5:00 pm\nTuesday\, Sept. 24:  8:00 am – 11:00 am\nExhibiting:  HigherGround NG-911 Voice Recording System and Live911 – Distance-Aware Real-Time Monitoring \n<p>Bronze Sponsor<br />\nDrury Broadview Plaza   400 W. Douglas Ave.  Wichita\, KS  67202<br />\nExhibit Times:<br />\nMonday\, Sept 23:  1:00 pm &#8211; 5:00 pm<br />\nTuesday\, Sept. 24:  8:00 am &#8211; 11:00 am<br />\nExhibiting:  HigherGround NG-911 Voice Recording System and Live911 &#8211; Distance-Aware Real-Time Monitoring</p>
URL:https://comelectronics.com/event/kansas-apco-conference/
CATEGORIES:Tradeshows
END:VEVENT
BEGIN:VEVENT
DTSTART;VALUE=DATE:20240720
DTEND;VALUE=DATE:20240723
DTSTAMP:20260421T194757
CREATED:20240413T100527Z
LAST-MODIFIED:20240722T045018Z
UID:14600-1721502000-1721674799@comelectronics.com
SUMMARY:Sheriffs' Association of Texas 146th Annual Training Conference & Expo
DESCRIPTION:Booth #: 644Fort Worth Convention Center  1201 Houston Rd.   Fort Worth\, TX  76102 Exhibit Times: Sunday\, July 21:  9:00 am – 5:00 pm Monday\, July 22:  11:00 am – 5:00 pm Exhibiting:   Live911 – Distance-Aware Real-Time Monitoring and HigherGround NG-911 Voice Recording System \n<p>Booth #: 644Fort Worth Convention Center  1201 Houston Rd.   Fort Worth\, TX  76102 Exhibit Times: Sunday\, July 21:  9:00 am &#8211; 5:00 pm Monday\, July 22:  11:00 am &#8211; 5:00 pm Exhibiting:   Live911 &#8211; Distance-Aware Real-Time Monitoring and HigherGround NG-911 Voice Recording System</p>
URL:https://comelectronics.com/event/sheriffs-association-of-texas-146th-annual-training-conference-expo/
CATEGORIES:Tradeshows
END:VEVENT
BEGIN:VEVENT
DTSTART;VALUE=DATE:20240604
DTEND;VALUE=DATE:20240606
DTSTAMP:20260421T194757
CREATED:20240112T103524Z
LAST-MODIFIED:20240605T222020Z
UID:14132-1717459200-1717631999@comelectronics.com
SUMMARY:38th Annual Texas Chief Deputies Association Conference
DESCRIPTION:Booth #: 156\nEmbassy Suites Conference Center & Spa 1001 E. McCarty Lane San Marcos\, TX 78666\nExhibit Times:\nTuesday\, June 04:  12 pm – 5 pm\nWednesday\, June 05:  8 am – 3 pm \n Exhibiting:\n Live911 – Distance-Aware Real-Time Monitoring and V2 Shield Interview Room Recording System \n<p>Booth #: 156<br />\nEmbassy Suites Conference Center &amp; Spa 1001 E. McCarty Lane San Marcos\, TX 78666<br />\nExhibit Times:<br />\nTuesday\, June 04:  12 pm &#8211; 5 pm<br />\nWednesday\, June 05:  8 am &#8211; 3 pm</p>\n<p> Exhibiting:<br />\n Live911 &#8211; Distance-Aware Real-Time Monitoring and V2 Shield Interview Room Recording System</p>
URL:https://comelectronics.com/event/38th-annual-texas-chief-deputies-association-conference/
CATEGORIES:Tradeshows
END:VEVENT
BEGIN:VEVENT
DTSTART;VALUE=DATE:20240603
DTEND;VALUE=DATE:20240606
DTSTAMP:20260421T194757
CREATED:20240223T202018Z
LAST-MODIFIED:20240605T222020Z
UID:14351-1717372800-1717631999@comelectronics.com
SUMMARY:NCA Leadership Conference
DESCRIPTION:Booth #:  25\nThe Westin Washington D.C. Downtown Hotel\n999 9th Street NW\, Washington\, DC 20001\nExhibit Times:\nMonday\, June03: 7:30 am – 5:00 pm\nTuesday\, June 04: 8:00 am – 5:00 pm\nWednesday\, June 05: 8:00 am – 11:15 am\nExhibiting: V2 Advocate Interview Room Recording System \n<p>Booth #:  25<br />\nThe Westin Washington D.C. Downtown Hotel<br />\n999 9th Street NW\, Washington\, DC 20001<br />\nExhibit Times:<br />\nMonday\, June03: 7:30 am &#8211; 5:00 pm<br />\nTuesday\, June 04: 8:00 am &#8211; 5:00 pm<br />\nWednesday\, June 05: 8:00 am &#8211; 11:15 am<br />\nExhibiting: V2 Advocate Interview Room Recording System</p>
URL:https://comelectronics.com/event/nca-leadership-conference-2/
CATEGORIES:Tradeshows
END:VEVENT
BEGIN:VEVENT
DTSTART;VALUE=DATE:20240506
DTEND;VALUE=DATE:20240509
DTSTAMP:20260421T194757
CREATED:20240420T115019Z
LAST-MODIFIED:20240508T160523Z
UID:14637-1714953600-1715212799@comelectronics.com
SUMMARY:Tennessee CAC Director's Membership Retreat
DESCRIPTION:The Lodge at Montgomery Bell State Park   1000 Hotel Ave.  Burns\, TN 37029Presenting:  V2 Advocate Interview Room Recording System \n<p>The Lodge at Montgomery Bell State Park   1000 Hotel Ave.  Burns\, TN 37029Presenting:  V2 Advocate Interview Room Recording System</p>
URL:https://comelectronics.com/event/tennessee-cac-directors-membership-retreat/
CATEGORIES:Tradeshows
END:VEVENT
BEGIN:VEVENT
DTSTART;VALUE=DATE:20240502
DTEND;VALUE=DATE:20240503
DTSTAMP:20260421T194757
CREATED:20240406T083518Z
LAST-MODIFIED:20240502T145032Z
UID:14563-1714608000-1714694399@comelectronics.com
SUMMARY:Arkansas CAC Director's Meeting
DESCRIPTION:Children’s Advocacy Centers of Arkansas   124 West Capitol Avenue\, Suite 1630   Little Rock\, AR 72201Presenting:  V2 Advocate Interview Room Recording System \n<p>Children’s Advocacy Centers of Arkansas   124 West Capitol Avenue\, Suite 1630   Little Rock\, AR 72201Presenting:  V2 Advocate Interview Room Recording System</p>
URL:https://comelectronics.com/event/arkansas-cac-directors-meeting/
CATEGORIES:Tradeshows
END:VEVENT
BEGIN:VEVENT
DTSTART;VALUE=DATE:20240421
DTEND;VALUE=DATE:20240425
DTSTAMP:20260421T194757
CREATED:20231107T172022Z
LAST-MODIFIED:20240424T125032Z
UID:13765-1713657600-1714003199@comelectronics.com
SUMMARY:Texas Public Safety Conference
DESCRIPTION:Booth #:  64\nYellow Rose Sponsor\nEmbassy Suites by Hilton Denton Convention Center  3100 Town Center Trail\,   Denton\, TX  76201\nExhibit Times:\nMonday\, April 22:  10:00 am – 3:00 pm\nTuesday\, April 23:  9:00 am – 2:00 pm\nExhibiting:  Live911 – Distance-Aware Real-Time Monitoring and HigherGround NG911 Voice Recording System \n<p>Booth #:  64<br />\nYellow Rose Sponsor<br />\nEmbassy Suites by Hilton Denton Convention Center  3100 Town Center Trail\,   Denton\, TX  76201<br />\nExhibit Times:<br />\nMonday\, April 22:  10:00 am &#8211; 3:00 pm<br />\nTuesday\, April 23:  9:00 am &#8211; 2:00 pm<br />\nExhibiting:  Live911 &#8211; Distance-Aware Real-Time Monitoring and HigherGround NG911 Voice Recording System</p>
URL:https://comelectronics.com/event/texas-public-safety-conference-3/
CATEGORIES:Tradeshows
END:VEVENT
BEGIN:VEVENT
DTSTART;VALUE=DATE:20240326
DTEND;VALUE=DATE:20240328
DTSTAMP:20260421T194757
CREATED:20240112T103523Z
LAST-MODIFIED:20240323T053530Z
UID:14131-1711411200-1711583999@comelectronics.com
SUMMARY:Texas Police Chiefs Association Conference
DESCRIPTION:Booth#: 800\nGalveston Island Convention Center at The San Luis Resort 5600 Seawall Blvd  Galveston\, TX 77551\nExhibit Times:\nTuesday\, March 26:   6:00 pm – 8:00 pm\nWednesday\, March 27:  9:00 am – 5:00 pm\nExhibiting:\nLive911 – Distance-Aware Real-Time Monitoring and V2 Shield Interview Room Recording System \n<p>Booth#: 800<br />\nGalveston Island Convention Center at The San Luis Resort 5600 Seawall Blvd  Galveston\, TX 77551<br />\nExhibit Times:<br />\nTuesday\, March 26:   6:00 pm &#8211; 8:00 pm<br />\nWednesday\, March 27:  9:00 am &#8211; 5:00 pm<br />\nExhibiting:<br />\nLive911 &#8211; Distance-Aware Real-Time Monitoring and V2 Shield Interview Room Recording System</p>
URL:https://comelectronics.com/event/texas-police-chiefs-association-conference-2/
CATEGORIES:Tradeshows
END:VEVENT
BEGIN:VEVENT
DTSTART;VALUE=DATE:20240318
DTEND;VALUE=DATE:20240322
DTSTAMP:20260421T194757
CREATED:20230921T072032Z
LAST-MODIFIED:20240319T043522Z
UID:13528-1710720000-1711065599@comelectronics.com
SUMMARY:40th International Symposium on Child Abuse
DESCRIPTION:Von Braun Center   700 Monroe St SW   Huntsville\, Alabama   35801\nExhibit Times:\nMonday\, March 18:  2:30 pm – 6:00 pm\nTuesday\, March 19:  7:00 am – 5:30 pm\nWednesday\, March 20:  7:30 am – 5:30 pm\nThursday\, March 21:  7:30 am – 1:00 pm\nExhibiting:  V2 Advocate Interview Room Recording System \n<p>Von Braun Center   700 Monroe St SW   Huntsville\, Alabama   35801<br />\nExhibit Times:<br />\nMonday\, March 18:  2:30 pm &#8211; 6:00 pm<br />\nTuesday\, March 19:  7:00 am &#8211; 5:30 pm<br />\nWednesday\, March 20:  7:30 am &#8211; 5:30 pm<br />\nThursday\, March 21:  7:30 am &#8211; 1:00 pm<br />\nExhibiting:  V2 Advocate Interview Room Recording System</p>
URL:https://comelectronics.com/event/40th-international-symposium-on-child-abuse/
CATEGORIES:Tradeshows
END:VEVENT
END:VCALENDAR