BEGIN:VCALENDAR
VERSION:2.0
PRODID:-//Commercial Electronics - ECPv6.15.20//NONSGML v1.0//EN
CALSCALE:GREGORIAN
METHOD:PUBLISH
X-ORIGINAL-URL:https://comelectronics.com
X-WR-CALDESC:Events for Commercial Electronics
REFRESH-INTERVAL;VALUE=DURATION:PT1H
X-Robots-Tag:noindex
X-PUBLISHED-TTL:PT1H
BEGIN:VTIMEZONE
TZID:America/Chicago
BEGIN:DAYLIGHT
TZOFFSETFROM:-0600
TZOFFSETTO:-0500
TZNAME:CDT
DTSTART:20200308T080000
END:DAYLIGHT
BEGIN:STANDARD
TZOFFSETFROM:-0500
TZOFFSETTO:-0600
TZNAME:CST
DTSTART:20201101T070000
END:STANDARD
BEGIN:DAYLIGHT
TZOFFSETFROM:-0600
TZOFFSETTO:-0500
TZNAME:CDT
DTSTART:20210314T080000
END:DAYLIGHT
BEGIN:STANDARD
TZOFFSETFROM:-0500
TZOFFSETTO:-0600
TZNAME:CST
DTSTART:20211107T070000
END:STANDARD
BEGIN:DAYLIGHT
TZOFFSETFROM:-0600
TZOFFSETTO:-0500
TZNAME:CDT
DTSTART:20220313T080000
END:DAYLIGHT
BEGIN:STANDARD
TZOFFSETFROM:-0500
TZOFFSETTO:-0600
TZNAME:CST
DTSTART:20221106T070000
END:STANDARD
BEGIN:DAYLIGHT
TZOFFSETFROM:-0600
TZOFFSETTO:-0500
TZNAME:CDT
DTSTART:20230312T080000
END:DAYLIGHT
BEGIN:STANDARD
TZOFFSETFROM:-0500
TZOFFSETTO:-0600
TZNAME:CST
DTSTART:20231105T070000
END:STANDARD
END:VTIMEZONE
BEGIN:VEVENT
DTSTART;VALUE=DATE:20220807
DTEND;VALUE=DATE:20220811
DTSTAMP:20260421T174317
CREATED:20211108T202540Z
LAST-MODIFIED:20220809T030527Z
UID:5904-1659830400-1660175999@comelectronics.com
SUMMARY:APCO Conference
DESCRIPTION:Booth #:  1539 Anaheim Convention Center   800 W Katella Ave   Anaheim\, CA  92802  Exhibit Hours:  Monday\, Aug 08:  10:00 am – 5:00 pm  Tuesday\, Aug 09:  10:00 am – 4:00 pm    Exhibiting:  Live911 – Distance-Aware Real-Time Monitoring and HigherGround NG911 Voice Recording System \n<p>Booth #:  1539 Anaheim Convention Center   800 W Katella Ave   Anaheim\, CA  92802  Exhibit Hours:  Monday\, Aug 08:  10:00 am &#8211; 5:00 pm  Tuesday\, Aug 09:  10:00 am &#8211; 4:00 pm    Exhibiting:  Live911 &#8211; Distance-Aware Real-Time Monitoring and HigherGround NG911 Voice Recording System</p>
URL:https://comelectronics.com/event/apco-conference-3/
CATEGORIES:Tradeshows
END:VEVENT
BEGIN:VEVENT
DTSTART;VALUE=DATE:20220724
DTEND;VALUE=DATE:20220726
DTSTAMP:20260421T174317
CREATED:20220519T142031Z
LAST-MODIFIED:20220725T193535Z
UID:9967-1658620800-1658793599@comelectronics.com
SUMMARY:Sheriffs' Assn of TX 144th Annual Training Conference & Expo
DESCRIPTION:Booth #: 115  Fort Worth Convention Center    1201 Houston Street   Fort Worth\, TX   76102  Exhibit Hours:  Sunday\, July 24:  9:00 am – 5:00 pm Monday\, July 25:  11:00 am – 5:00 pm   Exhibiting:  Live911 – Distance-Aware Real-Time Monitoring \n<p>Booth #: 115  Fort Worth Convention Center    1201 Houston Street   Fort Worth\, TX   76102  Exhibit Hours:  Sunday\, July 24:  9:00 am &#8211; 5:00 pm Monday\, July 25:  11:00 am &#8211; 5:00 pm   Exhibiting:  Live911 &#8211; Distance-Aware Real-Time Monitoring</p>
URL:https://comelectronics.com/event/sheriffs-assn-of-tx-144th-annual-training-conference-expo/
CATEGORIES:Tradeshows
END:VEVENT
BEGIN:VEVENT
DTSTART;VALUE=DATE:20220611
DTEND;VALUE=DATE:20220617
DTSTAMP:20260421T174317
CREATED:20211108T202539Z
LAST-MODIFIED:20220615T203536Z
UID:5903-1654905600-1655423999@comelectronics.com
SUMMARY:NENA Conference
DESCRIPTION:Booth #: 104 Kentucky International Convention Center   221 S. 4th Street   Louisville\, KY  40202  Exhibit Times:  Monday\, June 13:  10:00 am – 1:30 pm  Monday\, June 13:  4:00 pm – 6:00 pm  Tuesday\, June 14:  9:15 am – 4:00 pm   Exhibiting:  Live911 – Distance-Aware Real-Time Monitoring and HigherGround NG911 Voice Recording System \n<p>Booth #: 104 Kentucky International Convention Center   221 S. 4th Street   Louisville\, KY  40202  Exhibit Times:  Monday\, June 13:  10:00 am &#8211; 1:30 pm  Monday\, June 13:  4:00 pm &#8211; 6:00 pm  Tuesday\, June 14:  9:15 am &#8211; 4:00 pm   Exhibiting:  Live911 &#8211; Distance-Aware Real-Time Monitoring and HigherGround NG911 Voice Recording System</p>
URL:https://comelectronics.com/event/nena-conference/
CATEGORIES:Tradeshows
END:VEVENT
BEGIN:VEVENT
DTSTART;VALUE=DATE:20220607
DTEND;VALUE=DATE:20220609
DTSTAMP:20260421T174317
CREATED:20220324T232014Z
LAST-MODIFIED:20220608T191022Z
UID:9651-1654560000-1654732799@comelectronics.com
SUMMARY:TX Chief Deputies Association Conference
DESCRIPTION:Embassy Suites Conference Center & Spa    1001 E. McCarty Lane   San Marcos\, TX   78666  Exhibit Times: Tuesday\, June 07:  8 am – 3 pm Wednesday\, June 08:  8 am – 3 pm  Exhibiting:  Live911 – Distance-Aware Real-Time Monitoring and V2 Shield Interview Room Recording System \n<p>Embassy Suites Conference Center &amp; Spa    1001 E. McCarty Lane   San Marcos\, TX   78666  Exhibit Times: Tuesday\, June 07:  8 am &#8211; 3 pm Wednesday\, June 08:  8 am &#8211; 3 pm  Exhibiting:  Live911 &#8211; Distance-Aware Real-Time Monitoring and V2 Shield Interview Room Recording System</p>
URL:https://comelectronics.com/event/tx-chief-deputies-association-conference-2/
CATEGORIES:Tradeshows
END:VEVENT
BEGIN:VEVENT
DTSTART;VALUE=DATE:20220606
DTEND;VALUE=DATE:20220609
DTSTAMP:20260421T174317
CREATED:20220503T103520Z
LAST-MODIFIED:20220608T191022Z
UID:9867-1654473600-1654732799@comelectronics.com
SUMMARY:National Children's Alliance (NCA) Leadership Conf
DESCRIPTION:NCA Platinum Sponsor   Booth#1  Washington DC Renaissance Hotel   999 Ninth Street NW   Washington\, DC   20001  Exhibit Times:  Monday\, June 06:  7:00 am – 5:00 pm Tuesday\, June 07:  7:00 am – 3:00 pm Wednesday\, June 08:  7:00 am – 11:15 am  Exhibiting:  V2 Advocate Interview Room Recording System \n<p>NCA Platinum Sponsor   Booth#1  Washington DC Renaissance Hotel   999 Ninth Street NW   Washington\, DC   20001  Exhibit Times:  Monday\, June 06:  7:00 am &#8211; 5:00 pm Tuesday\, June 07:  7:00 am &#8211; 3:00 pm Wednesday\, June 08:  7:00 am &#8211; 11:15 am  Exhibiting:  V2 Advocate Interview Room Recording System</p>
URL:https://comelectronics.com/event/national-childrens-alliance-nca-leadership-conf/
CATEGORIES:Tradeshows
END:VEVENT
BEGIN:VEVENT
DTSTART;VALUE=DATE:20220413
DTEND;VALUE=DATE:20220414
DTSTAMP:20260421T174317
CREATED:20220318T215010Z
LAST-MODIFIED:20220412T055508Z
UID:9607-1649808000-1649894399@comelectronics.com
SUMMARY:28th Oklahoma Child Abuse & Neglect Conference
DESCRIPTION:Hilton Garden Inn   2833 Conference Dr.   Edmond\, OK   73034  Exhibit Times:  April 13\, Wednesday:  8 am – 4 pm April 14\, Thursday:  7:30 am – 5 pm April 15\, Friday:  7:30 am – 3 pm  Exhibiting:  V2 Advocate Interview Room Recording System \n<p>Hilton Garden Inn   2833 Conference Dr.   Edmond\, OK   73034  Exhibit Times:  April 13\, Wednesday:  8 am &#8211; 4 pm April 14\, Thursday:  7:30 am &#8211; 5 pm April 15\, Friday:  7:30 am &#8211; 3 pm  Exhibiting:  V2 Advocate Interview Room Recording System</p>
URL:https://comelectronics.com/event/28th-oklahoma-child-abuse-neglect-conference/
CATEGORIES:Tradeshows
END:VEVENT
BEGIN:VEVENT
DTSTART;VALUE=DATE:20220412
DTEND;VALUE=DATE:20220414
DTSTAMP:20260421T174317
CREATED:20220127T194035Z
LAST-MODIFIED:20220412T055508Z
UID:8356-1649721600-1649894399@comelectronics.com
SUMMARY:Texas Police Chiefs Association Conference
DESCRIPTION:Booth#:  429 The San Luis Resort\, Spa & Conference Center   5222 Seawall Blvd   Galveston\, TX  77551  Exhibit Times:  Tuesday\, April 12:   6:00 pm – 8:00 pm Wednesday\, April 13:  9:00 am – 5:00 pm   Exhibiting:  Live911 – Distance-Aware Real-Time Monitoring and HigherGround NG-911 Voice Recording System \n<p>Booth#:  429 The San Luis Resort\, Spa &amp; Conference Center   5222 Seawall Blvd   Galveston\, TX  77551  Exhibit Times:  Tuesday\, April 12:   6:00 pm &#8211; 8:00 pm Wednesday\, April 13:  9:00 am &#8211; 5:00 pm   Exhibiting:  Live911 &#8211; Distance-Aware Real-Time Monitoring and HigherGround NG-911 Voice Recording System</p>
URL:https://comelectronics.com/event/texas-police-chiefs-association-conference/
CATEGORIES:Tradeshows
END:VEVENT
BEGIN:VEVENT
DTSTART;VALUE=DATE:20220403
DTEND;VALUE=DATE:20220407
DTSTAMP:20260421T174317
CREATED:20211108T202539Z
LAST-MODIFIED:20220406T043509Z
UID:5902-1648944000-1649289599@comelectronics.com
SUMMARY:Texas Public Safety Conference
DESCRIPTION:Booth #: 215 Galveston Island Convention Center   5600 Seawall Blvd   Galveston\, TX  77551   Exhibiting:  Live911 – Distance-Aware Real-Time Monitoring and HigherGround NG911 Voice Recording System \n<p>Booth #: 215 Galveston Island Convention Center   5600 Seawall Blvd   Galveston\, TX  77551   Exhibiting:  Live911 &#8211; Distance-Aware Real-Time Monitoring and HigherGround NG911 Voice Recording System</p>
URL:https://comelectronics.com/event/texas-public-safety-conference-2/
CATEGORIES:Tradeshows
END:VEVENT
BEGIN:VEVENT
DTSTART;VALUE=DATE:20220321
DTEND;VALUE=DATE:20220325
DTSTAMP:20260421T174317
CREATED:20220127T194035Z
LAST-MODIFIED:20220324T232013Z
UID:8355-1647820800-1648166399@comelectronics.com
SUMMARY:38th International Symposium on Child Abuse VIRTUAL Conference
DESCRIPTION:Check out our virtual booth:  “V2 Advocate Interview Room Recording”\nExhibiting:  V2 Advocate Interview Room Recording System \n<p>Check out our virtual booth:  &#8220;V2 Advocate Interview Room Recording&#8221;<br />\nExhibiting:  V2 Advocate Interview Room Recording System</p>
URL:https://comelectronics.com/event/38th-international-symposium-on-child-abuse-virtual-conference/
CATEGORIES:Tradeshows
END:VEVENT
BEGIN:VEVENT
DTSTART;VALUE=DATE:20220301
DTEND;VALUE=DATE:20220303
DTSTAMP:20260421T174317
CREATED:20220127T194034Z
LAST-MODIFIED:20220302T083529Z
UID:8354-1646092800-1646265599@comelectronics.com
SUMMARY:Champions of Children Illinois (CACI) Conference
DESCRIPTION:“Champion of Children Partner” Sponsor  The Westin Chicago Northwest   400 Park Blvd   Itasca\, Illinois   60143  Exhibiting:  V2 Advocate Interview Room Recording System \n<p>&#8220;Champion of Children Partner&#8221; Sponsor  The Westin Chicago Northwest   400 Park Blvd   Itasca\, Illinois   60143  Exhibiting:  V2 Advocate Interview Room Recording System</p>
URL:https://comelectronics.com/event/champions-of-children-illinois-caci-conference/
CATEGORIES:Tradeshows
END:VEVENT
BEGIN:VEVENT
DTSTART;VALUE=DATE:20211117
DTEND;VALUE=DATE:20211118
DTSTAMP:20260421T174317
CREATED:20210903T074000Z
LAST-MODIFIED:20211117T222534Z
UID:5578-1637107200-1637193599@comelectronics.com
SUMMARY:New Mexico APCO/NENA Conference - Cancelled
DESCRIPTION:Albuquerque Marriott Pyramid North   5151 San Francisco Rd NE  Albuquerque\, NM  87109  Exhibit Hours:   Wed\, Nov 17:  2 pm – 5 pm  Wed\, Nov 17:  5 pm – 7 pm – Industry Partner Social   Exhibiting:  Live911 – Distance-Aware Real-Time Monitoring and HigherGround NG-911 Voice Recording System \n<p>Albuquerque Marriott Pyramid North   5151 San Francisco Rd NE  Albuquerque\, NM  87109  Exhibit Hours:   Wed\, Nov 17:  2 pm &#8211; 5 pm  Wed\, Nov 17:  5 pm &#8211; 7 pm &#8211; Industry Partner Social   Exhibiting:  Live911 &#8211; Distance-Aware Real-Time Monitoring and HigherGround NG-911 Voice Recording System</p>
URL:https://comelectronics.com/event/new-mexico-apco-nena-conference/
CATEGORIES:Tradeshows
END:VEVENT
BEGIN:VEVENT
DTSTART;VALUE=DATE:20211027
DTEND;VALUE=DATE:20211029
DTSTAMP:20260421T174317
CREATED:20210719T235758Z
LAST-MODIFIED:20211006T121400Z
UID:5378-1635292800-1635465599@comelectronics.com
SUMMARY:Virginia APCO/NENA Conference
DESCRIPTION:Booth #: 112 The Hotel Roanoke & Conference Center   110 Shenandoah Ave NE   Roanoke\, VA  24016  Exhibit Times: Wednesday\, Oct 27:  11:30 am – 5:00 pm Thursday\, Oct 28:  7:30 am – 1:30 pm   Exhibiting:  Live911 – Distance-Aware Real-Time Monitoring and HigherGround NG-911 Voice Recording System \n<p>Booth #: 112 The Hotel Roanoke &amp; Conference Center   110 Shenandoah Ave NE   Roanoke\, VA  24016  Exhibit Times: Wednesday\, Oct 27:  11:30 am &#8211; 5:00 pm Thursday\, Oct 28:  7:30 am &#8211; 1:30 pm   Exhibiting:  Live911 &#8211; Distance-Aware Real-Time Monitoring and HigherGround NG-911 Voice Recording System</p>
URL:https://comelectronics.com/event/virginia-apco-nena-conference/
CATEGORIES:Tradeshows
END:VEVENT
BEGIN:VEVENT
DTSTART;VALUE=DATE:20211027
DTEND;VALUE=DATE:20211029
DTSTAMP:20260421T174317
CREATED:20210529T164643Z
LAST-MODIFIED:20211006T121400Z
UID:5024-1635292800-1635465599@comelectronics.com
SUMMARY:AZ Assn of Chiefs of Police (AACOP) Annual Training & Vendor Expo
DESCRIPTION:Bronze Sponsor – Booth #: 18 Edgewater Resort & Casino   2020 S Casino Dr   Laughlin\, NV  89029  Exhibit Hours:  Wednesday\, October 27:  8:00 am – 5:00 pm Thursday\, October 28:  8:00 am – 12:00 pm  Exhibiting:  Live911 – Distance-Aware Real-Time Monitoring and V2 Shield Interview Room Recording System \n<p>Bronze Sponsor &#8211; Booth #: 18 Edgewater Resort &amp; Casino   2020 S Casino Dr   Laughlin\, NV  89029  Exhibit Hours:  Wednesday\, October 27:  8:00 am &#8211; 5:00 pm Thursday\, October 28:  8:00 am &#8211; 12:00 pm  Exhibiting:  Live911 &#8211; Distance-Aware Real-Time Monitoring and V2 Shield Interview Room Recording System</p>
URL:https://comelectronics.com/event/az-assn-of-chiefs-of-police-aacop-annual-training-vendor-expo/
CATEGORIES:Tradeshows
END:VEVENT
BEGIN:VEVENT
DTSTART;VALUE=DATE:20211024
DTEND;VALUE=DATE:20211027
DTSTAMP:20260421T174317
CREATED:20210410T120049Z
LAST-MODIFIED:20211006T121400Z
UID:4796-1635033600-1635292799@comelectronics.com
SUMMARY:IL 911 (IPSTA)  37th Annual Conference
DESCRIPTION:Crowne Plaza   3000 S. Dirksen Parkway    Springfield\, IL   62703  Exhibit Hours:   Sunday\, Oct 24:  6:30 pm – 9:00 pm (Hospitality Event) Monday\, Oct 25:  10:30 am – 4:00 pm  Tuesday\, Oct 26:  8:30 am – 11:30 am   Exhibiting:  Live911 – Distance-Aware Real-Time Monitoring and HigherGround NG911 Voice Recording System \n<p>Crowne Plaza   3000 S. Dirksen Parkway    Springfield\, IL   62703  Exhibit Hours:   Sunday\, Oct 24:  6:30 pm &#8211; 9:00 pm (Hospitality Event) Monday\, Oct 25:  10:30 am &#8211; 4:00 pm  Tuesday\, Oct 26:  8:30 am &#8211; 11:30 am   Exhibiting:  Live911 &#8211; Distance-Aware Real-Time Monitoring and HigherGround NG911 Voice Recording System</p>
URL:https://comelectronics.com/event/il-911-ipsta-37th-annual-conference/
CATEGORIES:Tradeshows
END:VEVENT
BEGIN:VEVENT
DTSTART;VALUE=DATE:20211019
DTEND;VALUE=DATE:20211020
DTSTAMP:20260421T174317
CREATED:20210709T224117Z
LAST-MODIFIED:20211006T121400Z
UID:5320-1634601600-1634687999@comelectronics.com
SUMMARY:Colorado APCO/NENA Conference
DESCRIPTION:Embassy Suites by Hilton Loveland Hotel Conference Center & Spa    4705 Clydesdale Parkway   Loveland\, Colorado  80538  Exhibit Hours:  October 19\, Tuesday:  12:00 pm – 5:00 pm  October 19\, Tuesday:  5:30 pm – 7:30 pm – Evening Reception   Exhibiting:  Live911 – Distance-Aware Real-Time Monitoring and HigherGround NG-911 Voice Recording System \n<p>Embassy Suites by Hilton Loveland Hotel Conference Center &amp; Spa    4705 Clydesdale Parkway   Loveland\, Colorado  80538  Exhibit Hours:  October 19\, Tuesday:  12:00 pm &#8211; 5:00 pm  October 19\, Tuesday:  5:30 pm &#8211; 7:30 pm &#8211; Evening Reception   Exhibiting:  Live911 &#8211; Distance-Aware Real-Time Monitoring and HigherGround NG-911 Voice Recording System</p>
URL:https://comelectronics.com/event/colorado-apco-nena-conference/
CATEGORIES:Tradeshows
END:VEVENT
BEGIN:VEVENT
DTSTART;VALUE=DATE:20211018
DTEND;VALUE=DATE:20211021
DTSTAMP:20260421T174317
CREATED:20210512T142906Z
LAST-MODIFIED:20211006T121400Z
UID:4940-1634515200-1634774399@comelectronics.com
SUMMARY:Idaho 9-1-1 PSAP Conference - Cancelled
DESCRIPTION:Silver Sponsor Riverside Hotel   2900 W Chinden Blvd.   Boise\, Idaho   83714  Exhibiting:  Live911 – Distance-Aware Real-Time Monitoring and HigherGround NG-911 Voice Recording System \n<p>Silver Sponsor Riverside Hotel   2900 W Chinden Blvd.   Boise\, Idaho   83714  Exhibiting:  Live911 &#8211; Distance-Aware Real-Time Monitoring and HigherGround NG-911 Voice Recording System</p>
URL:https://comelectronics.com/event/idaho-911-psap-conference/
CATEGORIES:Tradeshows
END:VEVENT
BEGIN:VEVENT
DTSTART;VALUE=DATE:20211005
DTEND;VALUE=DATE:20211006
DTSTAMP:20260421T174317
CREATED:20210918T093108Z
LAST-MODIFIED:20211004T115717Z
UID:5643-1633392000-1633478399@comelectronics.com
SUMMARY:2021 NYSCA Leadership Conference
DESCRIPTION:Virtual\nV2 Advocate Interview Recording for CACs \n<p>Virtual<br />\nV2 Advocate Interview Recording for CACs</p>
URL:https://comelectronics.com/event/2021-nysca-leadership-conference/
CATEGORIES:Tradeshows
END:VEVENT
BEGIN:VEVENT
DTSTART;VALUE=DATE:20211004
DTEND;VALUE=DATE:20211006
DTSTAMP:20260421T174317
CREATED:20210804T041332Z
LAST-MODIFIED:20211004T115717Z
UID:5447-1633305600-1633478399@comelectronics.com
SUMMARY:Oklahoma Public Safety Conference - Cancelled
DESCRIPTION:Marriott Tulsa Hotel Southern Hills     1902 East 71st Street   Tulsa\, Oklahoma  74136  Exhibit Hours: Monday\, Oct 04:  2:30 pm – 5:00 pm  Tuesday\, Oct 05:  10:00 am – 4:30 pm  Exhibiting: Live911 – Distance-Aware Real-Time Monitoring and HigherGround NG911 Voice Recording System \n<p>Marriott Tulsa Hotel Southern Hills     1902 East 71st Street   Tulsa\, Oklahoma  74136  Exhibit Hours: Monday\, Oct 04:  2:30 pm &#8211; 5:00 pm  Tuesday\, Oct 05:  10:00 am &#8211; 4:30 pm  Exhibiting: Live911 &#8211; Distance-Aware Real-Time Monitoring and HigherGround NG911 Voice Recording System</p>
URL:https://comelectronics.com/event/oklahoma-public-safety-conference/
CATEGORIES:Tradeshows
END:VEVENT
BEGIN:VEVENT
DTSTART;VALUE=DATE:20210915
DTEND;VALUE=DATE:20210917
DTSTAMP:20260421T174317
CREATED:20210814T052628Z
LAST-MODIFIED:20210916T085818Z
UID:5489-1631664000-1631836799@comelectronics.com
SUMMARY:Montana APCO Conference
DESCRIPTION:Silver – Meal Sponsor Delta Colonial Hotel   2301 Colonial Dr.  Helena\, MT  59601  Exhibit Times:  Wednesday\, Sept. 15:  7:30 am – 5:00 pm Thursday\, Sept. 16:  7:30 am – 5:30 pm  Exhibiting:  Live911 – Distance-Aware Real-Time Monitoring and HigherGround NG-911 Voice Recording System \n<p>Silver &#8211; Meal Sponsor Delta Colonial Hotel   2301 Colonial Dr.  Helena\, MT  59601  Exhibit Times:  Wednesday\, Sept. 15:  7:30 am &#8211; 5:00 pm Thursday\, Sept. 16:  7:30 am &#8211; 5:30 pm  Exhibiting:  Live911 &#8211; Distance-Aware Real-Time Monitoring and HigherGround NG-911 Voice Recording System</p>
URL:https://comelectronics.com/event/montana-apco-conference/
CATEGORIES:Tradeshows
END:VEVENT
BEGIN:VEVENT
DTSTART;VALUE=DATE:20210914
DTEND;VALUE=DATE:20210916
DTSTAMP:20260421T174317
CREATED:20210415T122829Z
LAST-MODIFIED:20210915T084404Z
UID:4822-1631577600-1631750399@comelectronics.com
SUMMARY:AZ APCO/NENA STATE TRAINING CONFERENCE
DESCRIPTION:Booth #: 403 Renaissance Phoenix Glendale Hotel & Spa    9495 W Coyotes Blvd    Glendale\, Arizona    85305  Exhibit Times:  September 14\, Tuesday:  11:30 am – 5:00 pm September 15\, Wednesday:  9:00 am – 2:00 pm  Exhibiting:  Live911 – Distance-Aware Real-Time Monitoring and HigherGround NG-911 Voice Recording System \n<p>Booth #: 403 Renaissance Phoenix Glendale Hotel &amp; Spa    9495 W Coyotes Blvd    Glendale\, Arizona    85305  Exhibit Times:  September 14\, Tuesday:  11:30 am &#8211; 5:00 pm September 15\, Wednesday:  9:00 am &#8211; 2:00 pm  Exhibiting:  Live911 &#8211; Distance-Aware Real-Time Monitoring and HigherGround NG-911 Voice Recording System</p>
URL:https://comelectronics.com/event/az-apco-nena-state-training-conference/
CATEGORIES:Tradeshows
END:VEVENT
BEGIN:VEVENT
DTSTART;VALUE=DATE:20210913
DTEND;VALUE=DATE:20210916
DTSTAMP:20260421T174317
CREATED:20210609T184654Z
LAST-MODIFIED:20210915T084404Z
UID:5085-1631491200-1631750399@comelectronics.com
SUMMARY:Virginia Crimes Against Children Conference
DESCRIPTION:DoubleTree by Hilton Hotel    50 Kingsmill Rd   Williamsburg\, VA   23185  Exhibit Times: Monday\, Sept 13:  8:00 am – 4:30 pm  Tuesday\, Sept 14:  8:00 am – 4:30 pm  Wednesday\, Sept 15:  8:30 am – 11:45 am   Exhibiting:  V2 Advocate Interview Room Recording System \n<p>DoubleTree by Hilton Hotel    50 Kingsmill Rd   Williamsburg\, VA   23185  Exhibit Times: Monday\, Sept 13:  8:00 am &#8211; 4:30 pm  Tuesday\, Sept 14:  8:00 am &#8211; 4:30 pm  Wednesday\, Sept 15:  8:30 am &#8211; 11:45 am   Exhibiting:  V2 Advocate Interview Room Recording System</p>
URL:https://comelectronics.com/event/virginia-crimes-against-children-conference/
CATEGORIES:Tradeshows
END:VEVENT
BEGIN:VEVENT
DTSTART;VALUE=DATE:20210830
DTEND;VALUE=DATE:20210901
DTSTAMP:20260421T174317
CREATED:20210702T215759Z
LAST-MODIFIED:20210831T071340Z
UID:5257-1630281600-1630454399@comelectronics.com
SUMMARY:11th Annual Children's Advocacy Centers of Michigan Conference
DESCRIPTION:Ally Sponsor DeVos Place Convention Center   303 Monroe Ave NW   Grand Rapids\, MI  49503  Exhibiting:  V2 Advocate Interview Room Recording System \n<p>Ally Sponsor DeVos Place Convention Center   303 Monroe Ave NW   Grand Rapids\, MI  49503  Exhibiting:  V2 Advocate Interview Room Recording System</p>
URL:https://comelectronics.com/event/11th-annual-childrens-advocacy-centers-of-michigan-conference/
CATEGORIES:Tradeshows
END:VEVENT
BEGIN:VEVENT
DTSTART;VALUE=DATE:20210823
DTEND;VALUE=DATE:20210824
DTSTAMP:20260421T174317
CREATED:20210527T164224Z
LAST-MODIFIED:20210823T062757Z
UID:5011-1629676800-1629763199@comelectronics.com
SUMMARY:Virginia Association of Chiefs of Police (VACP) Conference
DESCRIPTION:Booth #:  303 The Williamsburg Lodge    310 S England St   Williamsburg\, Virginia   23185  Exhibit Times:   Monday\,  August 23:  7:30 am – 4:00 pm    Exhibiting:  Live911 – Distance-Aware Real-Time Monitoring and V2 Shield Interview Room Recording System \n<p>Booth #:  303 The Williamsburg Lodge    310 S England St   Williamsburg\, Virginia   23185  Exhibit Times:   Monday\,  August 23:  7:30 am &#8211; 4:00 pm    Exhibiting:  Live911 &#8211; Distance-Aware Real-Time Monitoring and V2 Shield Interview Room Recording System</p>
URL:https://comelectronics.com/event/virginia-association-of-chiefs-of-police-vacp-conference/
CATEGORIES:Tradeshows
END:VEVENT
BEGIN:VEVENT
DTSTART;VALUE=DATE:20210819
DTEND;VALUE=DATE:20210821
DTSTAMP:20260421T174317
CREATED:20210324T093722Z
LAST-MODIFIED:20210820T061213Z
UID:4664-1629331200-1629503999@comelectronics.com
SUMMARY:Midwest Security & Police Conference/Expo (MSPCE)
DESCRIPTION:Booth #: 207 Tinley Park Convention Center   18451 Convention Center Drive   Tinley Park\, Illinois   60477  Exhibiting:  Live911 – Distance-Aware Real-Time Monitoring and V2 Shield Interview Room Recording System \n<p>Booth #: 207 Tinley Park Convention Center   18451 Convention Center Drive   Tinley Park\, Illinois   60477  Exhibiting:  Live911 &#8211; Distance-Aware Real-Time Monitoring and V2 Shield Interview Room Recording System</p>
URL:https://comelectronics.com/event/midwest-security-police-conference-expo-mspce/
CATEGORIES:Tradeshows
END:VEVENT
BEGIN:VEVENT
DTSTART;TZID=America/Chicago:20210815T160000
DTEND;TZID=America/Chicago:20210815T190000
DTSTAMP:20260421T174317
CREATED:20210719T235757Z
LAST-MODIFIED:20210815T053255Z
UID:5377-1629043200-1629054000@comelectronics.com
SUMMARY:Tex-Mex & Technology
DESCRIPTION:During APCO\, learn more about Live911 and how it can improve how you serve as you join us for some great Tex-Mex Appetizers at the famous Casa Rio Restaurant. Registration required. Full details can be found here; https://comelectronics.com/tex-mex-technology/ \n<p>During APCO\, learn more about Live911 and how it can improve how you serve as you join us for some great Tex-Mex Appetizers at the famous Casa Rio Restaurant. Registration required. Full details can be found here; https://comelectronics.com/tex-mex-technology/</p>
URL:https://comelectronics.com/event/tex-mex-technology/
LOCATION:Casa Rio Restaurant\, San Antonio\, TX
CATEGORIES:Tradeshows
END:VEVENT
BEGIN:VEVENT
DTSTART;VALUE=DATE:20210815
DTEND;VALUE=DATE:20210819
DTSTAMP:20260421T174317
CREATED:20210324T093722Z
LAST-MODIFIED:20210818T060105Z
UID:4665-1628985600-1629331199@comelectronics.com
SUMMARY:APCO Conference
DESCRIPTION:Booth #:  1802 Henry B. Gonzalez Convention Center   900 E Market St    San Antonio\, TX   78205  Exhibit Times: Monday\, August 16:  10:00 am – 5:00 pm Tuesday\, August 17: 10:00 am – 4:00 pm  Exhibiting:  Live911 – Distance-Aware Real-Time Monitoring and HigherGround NG911 Voice Recording System \n<p>Booth #:  1802 Henry B. Gonzalez Convention Center   900 E Market St    San Antonio\, TX   78205  Exhibit Times: Monday\, August 16:  10:00 am &#8211; 5:00 pm Tuesday\, August 17: 10:00 am &#8211; 4:00 pm  Exhibiting:  Live911 &#8211; Distance-Aware Real-Time Monitoring and HigherGround NG911 Voice Recording System</p>
URL:https://comelectronics.com/event/apco-conference-2/
CATEGORIES:Tradeshows
END:VEVENT
BEGIN:VEVENT
DTSTART;VALUE=DATE:20210802
DTEND;VALUE=DATE:20210804
DTSTAMP:20260421T174317
CREATED:20210604T174419Z
LAST-MODIFIED:20210803T041112Z
UID:5054-1627862400-1628035199@comelectronics.com
SUMMARY:Sheriffs' Association Of Texas 143rd Annual Training Conference & Expo
DESCRIPTION:Henry B Gonzalez Convention Center   900 E Market St   San Antonio\, TX   78205  Exhibit Times: Monday\, August 02:  9:00 am – 5:00 pm Monday\, August 02:  6:00 pm – 8:00 pm – President’s Welcome Reception Tuesday\, August 03:  11:00 am – 5:00 pm  Exhibiting:  Live911 – Distance-Aware Real-Time Monitoring and V2 Shield Interview Room Recording System \n<p>Henry B Gonzalez Convention Center   900 E Market St   San Antonio\, TX   78205  Exhibit Times: Monday\, August 02:  9:00 am &#8211; 5:00 pm Monday\, August 02:  6:00 pm &#8211; 8:00 pm &#8211; President&#8217;s Welcome Reception Tuesday\, August 03:  11:00 am &#8211; 5:00 pm  Exhibiting:  Live911 &#8211; Distance-Aware Real-Time Monitoring and V2 Shield Interview Room Recording System</p>
URL:https://comelectronics.com/event/sheriffs-association-of-texas-143rd-annual-training-conference-expo/
CATEGORIES:Tradeshows
END:VEVENT
BEGIN:VEVENT
DTSTART;VALUE=DATE:20210728
DTEND;VALUE=DATE:20210730
DTSTAMP:20260421T174317
CREATED:20210529T164641Z
LAST-MODIFIED:20210624T204214Z
UID:5022-1627430400-1627603199@comelectronics.com
SUMMARY:Tennessee Association of Chiefs of Police (TACP) Annual Conference
DESCRIPTION:Knoxville Convention Center   701 Henley St   Knoxville\, TN  37902  Exhibit Hours:  Wednesday\, July 28:  4:00 pm – 7:00 pm Thursday\, July 29:  9:00 am – 4:00 pm   Exhibiting:  Live911 – Distance-Aware Real-Time Monitoring and V2 Shield Interview Room Recording System \n<p>Knoxville Convention Center   701 Henley St   Knoxville\, TN  37902  Exhibit Hours:  Wednesday\, July 28:  4:00 pm &#8211; 7:00 pm Thursday\, July 29:  9:00 am &#8211; 4:00 pm   Exhibiting:  Live911 &#8211; Distance-Aware Real-Time Monitoring and V2 Shield Interview Room Recording System</p>
URL:https://comelectronics.com/event/tennessee-association-of-chiefs-of-police-tacp-annual-conference/
CATEGORIES:Tradeshows
END:VEVENT
BEGIN:VEVENT
DTSTART;VALUE=DATE:20210727
DTEND;VALUE=DATE:20210730
DTSTAMP:20260421T174317
CREATED:20210427T132754Z
LAST-MODIFIED:20210729T034144Z
UID:4874-1627344000-1627603199@comelectronics.com
SUMMARY:Louisiana Sheriffs' and Wardens' Training Conference and Exhibition
DESCRIPTION:Hilton Sandestin Beach Golf Resort and Spa    4000 Sandestin Blvd. South   Destin/Miramar Beach\, FL   32550  Exhibiting:  V2 Shield Interview Room Recording System \n<p>Hilton Sandestin Beach Golf Resort and Spa    4000 Sandestin Blvd. South   Destin/Miramar Beach\, FL   32550  Exhibiting:  V2 Shield Interview Room Recording System</p>
URL:https://comelectronics.com/event/louisiana-sheriffs-and-wardens-training-conference-and-exhibition/
CATEGORIES:Tradeshows
END:VEVENT
BEGIN:VEVENT
DTSTART;VALUE=DATE:20210724
DTEND;VALUE=DATE:20210730
DTSTAMP:20260421T174317
CREATED:20210324T093722Z
LAST-MODIFIED:20210729T034144Z
UID:4663-1627084800-1627603199@comelectronics.com
SUMMARY:National NENA Conference
DESCRIPTION:Booth #: 1244 Greater Columbus Convention Center  400 N High St.   Columbus\, Ohio  43215  Exhibiting:  Live911 – Distance-Aware Real-Time Monitoring and HigherGround NG911 Voice Recording System \n<p>Booth #: 1244 Greater Columbus Convention Center  400 N High St.   Columbus\, Ohio  43215  Exhibiting:  Live911 &#8211; Distance-Aware Real-Time Monitoring and HigherGround NG911 Voice Recording System</p>
URL:https://comelectronics.com/event/national-nena-conference/
CATEGORIES:Tradeshows
END:VEVENT
END:VCALENDAR