BEGIN:VCALENDAR
VERSION:2.0
PRODID:-//Commercial Electronics - ECPv6.15.20//NONSGML v1.0//EN
CALSCALE:GREGORIAN
METHOD:PUBLISH
X-WR-CALNAME:Commercial Electronics
X-ORIGINAL-URL:https://comelectronics.com
X-WR-CALDESC:Events for Commercial Electronics
REFRESH-INTERVAL;VALUE=DURATION:PT1H
X-Robots-Tag:noindex
X-PUBLISHED-TTL:PT1H
BEGIN:VTIMEZONE
TZID:America/Chicago
BEGIN:DAYLIGHT
TZOFFSETFROM:-0600
TZOFFSETTO:-0500
TZNAME:CDT
DTSTART:20170312T080000
END:DAYLIGHT
BEGIN:STANDARD
TZOFFSETFROM:-0500
TZOFFSETTO:-0600
TZNAME:CST
DTSTART:20171105T070000
END:STANDARD
BEGIN:DAYLIGHT
TZOFFSETFROM:-0600
TZOFFSETTO:-0500
TZNAME:CDT
DTSTART:20180311T080000
END:DAYLIGHT
BEGIN:STANDARD
TZOFFSETFROM:-0500
TZOFFSETTO:-0600
TZNAME:CST
DTSTART:20181104T070000
END:STANDARD
BEGIN:DAYLIGHT
TZOFFSETFROM:-0600
TZOFFSETTO:-0500
TZNAME:CDT
DTSTART:20190310T080000
END:DAYLIGHT
BEGIN:STANDARD
TZOFFSETFROM:-0500
TZOFFSETTO:-0600
TZNAME:CST
DTSTART:20191103T070000
END:STANDARD
BEGIN:DAYLIGHT
TZOFFSETFROM:-0600
TZOFFSETTO:-0500
TZNAME:CDT
DTSTART:20200308T080000
END:DAYLIGHT
BEGIN:STANDARD
TZOFFSETFROM:-0500
TZOFFSETTO:-0600
TZNAME:CST
DTSTART:20201101T070000
END:STANDARD
END:VTIMEZONE
BEGIN:VEVENT
DTSTART;VALUE=DATE:20190811
DTEND;VALUE=DATE:20190815
DTSTAMP:20260422T062559
CREATED:20181213T165519Z
LAST-MODIFIED:20190731T031215Z
UID:795-1565481600-1565827199@comelectronics.com
SUMMARY:APCO 2019
DESCRIPTION:Booth #476 \n<p>Booth #476</p>
URL:https://comelectronics.com/event/apco-2019/
LOCATION:Baltimore\, MD\, USA\, United States
CATEGORIES:Tradeshows
END:VEVENT
BEGIN:VEVENT
DTSTART;VALUE=DATE:20190614
DTEND;VALUE=DATE:20190620
DTSTAMP:20260422T062559
CREATED:20181212T195819Z
LAST-MODIFIED:20190619T172810Z
UID:696-1560470400-1560988799@comelectronics.com
SUMMARY:NENA 2019 Conference & Expo
DESCRIPTION:Booth #737 \n<p>Booth #737</p>
URL:https://comelectronics.com/event/nena/
LOCATION:Orlando\, FL\, USA\, United States
CATEGORIES:Tradeshows
END:VEVENT
BEGIN:VEVENT
DTSTART;VALUE=DATE:20190611
DTEND;VALUE=DATE:20190615
DTSTAMP:20260422T062559
CREATED:20181213T165517Z
LAST-MODIFIED:20190614T171301Z
UID:791-1560211200-1560556799@comelectronics.com
SUMMARY:33rd Annual Texas Chief Deputies Training Conference
DESCRIPTION:
URL:https://comelectronics.com/event/33rd-annual-texas-chief-deputies-training-conference/
LOCATION:Kerrville\, TX 78028\, USA\, United States
CATEGORIES:Tradeshows
END:VEVENT
BEGIN:VEVENT
DTSTART;VALUE=DATE:20190513
DTEND;VALUE=DATE:20190518
DTSTAMP:20260422T062559
CREATED:20190213T194130Z
LAST-MODIFIED:20190517T141138Z
UID:1207-1557705600-1558137599@comelectronics.com
SUMMARY:NM APCO/NENA Training Conference
DESCRIPTION:
URL:https://comelectronics.com/event/nm-apco-nena-training-conference/
LOCATION:Albuquerque\, NM\, USA\, United States
CATEGORIES:Tradeshows
END:VEVENT
BEGIN:VEVENT
DTSTART;VALUE=DATE:20190424
DTEND;VALUE=DATE:20190427
DTSTAMP:20260422T062559
CREATED:20181213T165516Z
LAST-MODIFIED:20190426T184213Z
UID:787-1556064000-1556323199@comelectronics.com
SUMMARY:Navigator 2019
DESCRIPTION:
URL:https://comelectronics.com/event/navigator-2019/
LOCATION:National Harbor\, MD\, 15800 National Hwy SW\, United States
CATEGORIES:Tradeshows
END:VEVENT
BEGIN:VEVENT
DTSTART;VALUE=DATE:20190416
DTEND;VALUE=DATE:20190420
DTSTAMP:20260422T062559
CREATED:20190213T194129Z
LAST-MODIFIED:20190419T072533Z
UID:1205-1555372800-1555718399@comelectronics.com
SUMMARY:20th Annual Child Abuse & Family Violence Summit
DESCRIPTION:
URL:https://comelectronics.com/event/20th-annual-child-abuse-family-violence-summit/
LOCATION:Portland\, OR\, USA\, United States
CATEGORIES:Tradeshows
END:VEVENT
BEGIN:VEVENT
DTSTART;VALUE=DATE:20190414
DTEND;VALUE=DATE:20190418
DTSTAMP:20260422T062559
CREATED:20190213T194129Z
LAST-MODIFIED:20190417T065256Z
UID:1203-1555200000-1555545599@comelectronics.com
SUMMARY:2019 Ohio NENA/APCO Conference
DESCRIPTION:
URL:https://comelectronics.com/event/2019-ohio-nena-apco-conference/
LOCATION:Sandusky\, OH 44870\, USA\, United States
CATEGORIES:Tradeshows
END:VEVENT
BEGIN:VEVENT
DTSTART;VALUE=DATE:20190409
DTEND;VALUE=DATE:20190411
DTSTAMP:20260422T062559
CREATED:20190213T194129Z
LAST-MODIFIED:20190410T061947Z
UID:1201-1554768000-1554940799@comelectronics.com
SUMMARY:WVCAN Statewide Conference
DESCRIPTION:
URL:https://comelectronics.com/event/wvcan-statewide-conference/
LOCATION:Huntington\, WV\, USA\, United States
CATEGORIES:Tradeshows
END:VEVENT
BEGIN:VEVENT
DTSTART;VALUE=DATE:20190408
DTEND;VALUE=DATE:20190412
DTSTAMP:20260422T062559
CREATED:20181213T165516Z
LAST-MODIFIED:20190411T062932Z
UID:785-1554681600-1555027199@comelectronics.com
SUMMARY:Conference on Crimes Against Women
DESCRIPTION:
URL:https://comelectronics.com/event/conference-on-crimes-against-women/
LOCATION:Dallas\, TX\, USA\, United States
CATEGORIES:Tradeshows
END:VEVENT
BEGIN:VEVENT
DTSTART;VALUE=DATE:20190404
DTEND;VALUE=DATE:20190406
DTSTAMP:20260422T062559
CREATED:20190213T194129Z
LAST-MODIFIED:20190405T052825Z
UID:1199-1554336000-1554508799@comelectronics.com
SUMMARY:CO NENA APCO 2019 State Conference
DESCRIPTION:
URL:https://comelectronics.com/event/co-nena-apco-2019-state-conference/
LOCATION:Westminster\, CO\, USA\, United States
CATEGORIES:Tradeshows
END:VEVENT
BEGIN:VEVENT
DTSTART;VALUE=DATE:20190331
DTEND;VALUE=DATE:20190404
DTSTAMP:20260422T062559
CREATED:20181213T165515Z
LAST-MODIFIED:20190330T045319Z
UID:783-1553990400-1554335999@comelectronics.com
SUMMARY:Texas Public Safety Conference
DESCRIPTION:
URL:https://comelectronics.com/event/texas-public-safety-conference/
LOCATION:Galveston\, TX\, USA\, United States
CATEGORIES:Tradeshows
END:VEVENT
BEGIN:VEVENT
DTSTART;VALUE=DATE:20190325
DTEND;VALUE=DATE:20190329
DTSTAMP:20260422T062559
CREATED:20190213T194128Z
LAST-MODIFIED:20190328T050052Z
UID:1197-1553472000-1553817599@comelectronics.com
SUMMARY:Homicide Investigators of Texas Annual Conference
DESCRIPTION:
URL:https://comelectronics.com/event/homicide-investigators-of-texas-annual-conference/
LOCATION:San Antonio\, TX\, USA\, United States
CATEGORIES:Tradeshows
END:VEVENT
BEGIN:VEVENT
DTSTART;VALUE=DATE:20190318
DTEND;VALUE=DATE:20190322
DTSTAMP:20260422T062559
CREATED:20181213T165515Z
LAST-MODIFIED:20190321T040009Z
UID:781-1552867200-1553212799@comelectronics.com
SUMMARY:35th International Symposium on Child Abuse
DESCRIPTION:
URL:https://comelectronics.com/event/35th-international-symposium-on-child-abuse/
LOCATION:Huntsville\, AL\, USA\, United States
CATEGORIES:Tradeshows
END:VEVENT
BEGIN:VEVENT
DTSTART;VALUE=DATE:20190311
DTEND;VALUE=DATE:20190313
DTSTAMP:20260422T062559
CREATED:20181213T165515Z
LAST-MODIFIED:20190312T233727Z
UID:779-1552262400-1552435199@comelectronics.com
SUMMARY:10th Annual Champions of Children MDT Enrichment Conference
DESCRIPTION:
URL:https://comelectronics.com/event/10th-annual-champions-of-children-mdt-enrichment-conference/
LOCATION:Chicago\, IL\, USA\, United States
CATEGORIES:Tradeshows
END:VEVENT
BEGIN:VEVENT
DTSTART;TZID=America/Chicago:20190128T160000
DTEND;TZID=America/Chicago:20190131T170000
DTSTAMP:20260422T062559
CREATED:20181213T165514Z
LAST-MODIFIED:20190130T181624Z
UID:777-1548691200-1548954000@comelectronics.com
SUMMARY:34th Annual San Diego International Conference on Child and Family Maltreatment
DESCRIPTION:
URL:https://comelectronics.com/event/34th-annual-san-diego-international-conference-on-child-and-family-maltreatment/
LOCATION:San Diego\, CA\, USA\, United States
CATEGORIES:Tradeshows
END:VEVENT
BEGIN:VEVENT
DTSTART;VALUE=DATE:20181107
DTEND;VALUE=DATE:20181111
DTSTAMP:20260422T062559
CREATED:20180518T225437Z
LAST-MODIFIED:20180829T213943Z
UID:157-1541548800-1541894399@comelectronics.com
SUMMARY:APCO
DESCRIPTION:
URL:https://comelectronics.com/event/apco/
LOCATION:Venetian-Palazzo Hotel\, 201 Sands Avenue\, Las Vegas\, NV\, 89169
CATEGORIES:Tradeshows
END:VEVENT
END:VCALENDAR