BEGIN:VCALENDAR
VERSION:2.0
PRODID:-//Commercial Electronics - ECPv6.15.20//NONSGML v1.0//EN
CALSCALE:GREGORIAN
METHOD:PUBLISH
X-WR-CALNAME:Commercial Electronics
X-ORIGINAL-URL:https://comelectronics.com
X-WR-CALDESC:Events for Commercial Electronics
REFRESH-INTERVAL;VALUE=DURATION:PT1H
X-Robots-Tag:noindex
X-PUBLISHED-TTL:PT1H
BEGIN:VTIMEZONE
TZID:America/Chicago
BEGIN:DAYLIGHT
TZOFFSETFROM:-0600
TZOFFSETTO:-0500
TZNAME:CDT
DTSTART:20240310T080000
END:DAYLIGHT
BEGIN:STANDARD
TZOFFSETFROM:-0500
TZOFFSETTO:-0600
TZNAME:CST
DTSTART:20241103T070000
END:STANDARD
BEGIN:DAYLIGHT
TZOFFSETFROM:-0600
TZOFFSETTO:-0500
TZNAME:CDT
DTSTART:20250309T080000
END:DAYLIGHT
BEGIN:STANDARD
TZOFFSETFROM:-0500
TZOFFSETTO:-0600
TZNAME:CST
DTSTART:20251102T070000
END:STANDARD
BEGIN:DAYLIGHT
TZOFFSETFROM:-0600
TZOFFSETTO:-0500
TZNAME:CDT
DTSTART:20260308T080000
END:DAYLIGHT
BEGIN:STANDARD
TZOFFSETFROM:-0500
TZOFFSETTO:-0600
TZNAME:CST
DTSTART:20261101T070000
END:STANDARD
END:VTIMEZONE
BEGIN:VEVENT
DTSTART;VALUE=DATE:20250712
DTEND;VALUE=DATE:20250715
DTSTAMP:20260421T235822
CREATED:20250409T100009Z
LAST-MODIFIED:20250715T000025Z
UID:16436-1752346800-1752519599@comelectronics.com
SUMMARY:Sheriffs' Association of Texas 147th Annual Training Conference & Expo
DESCRIPTION:Booth #: 634\nFort Worth Convention Center  1201 Houston Rd. Fort Worth\, TX 76102\nExhibit Times:\nSunday\, July 13: 12:00 pm – 5:00 pm\nMonday\, July 14: 12:00 pm – 5:00 pm\nExhibiting: Live911 – Distance-Aware Real-Time Monitoring and HigherGround NG-911 Voice Recording System \n<p>Booth #: 634<br />\nFort Worth Convention Center  1201 Houston Rd. Fort Worth\, TX 76102<br />\nExhibit Times:<br />\nSunday\, July 13: 12:00 pm &#8211; 5:00 pm<br />\nMonday\, July 14: 12:00 pm &#8211; 5:00 pm<br />\nExhibiting: Live911 &#8211; Distance-Aware Real-Time Monitoring and HigherGround NG-911 Voice Recording System</p>
URL:https://comelectronics.com/event/sheriffs-association-of-texas-147th-annual-training-conference-expo/
CATEGORIES:Tradeshows
END:VEVENT
END:VCALENDAR