BEGIN:VCALENDAR
VERSION:2.0
PRODID:-//Commercial Electronics - ECPv6.15.20//NONSGML v1.0//EN
CALSCALE:GREGORIAN
METHOD:PUBLISH
X-ORIGINAL-URL:https://comelectronics.com
X-WR-CALDESC:Events for Commercial Electronics
REFRESH-INTERVAL;VALUE=DURATION:PT1H
X-Robots-Tag:noindex
X-PUBLISHED-TTL:PT1H
BEGIN:VTIMEZONE
TZID:America/Chicago
BEGIN:DAYLIGHT
TZOFFSETFROM:-0600
TZOFFSETTO:-0500
TZNAME:CDT
DTSTART:20230312T080000
END:DAYLIGHT
BEGIN:STANDARD
TZOFFSETFROM:-0500
TZOFFSETTO:-0600
TZNAME:CST
DTSTART:20231105T070000
END:STANDARD
BEGIN:DAYLIGHT
TZOFFSETFROM:-0600
TZOFFSETTO:-0500
TZNAME:CDT
DTSTART:20240310T080000
END:DAYLIGHT
BEGIN:STANDARD
TZOFFSETFROM:-0500
TZOFFSETTO:-0600
TZNAME:CST
DTSTART:20241103T070000
END:STANDARD
BEGIN:DAYLIGHT
TZOFFSETFROM:-0600
TZOFFSETTO:-0500
TZNAME:CDT
DTSTART:20250309T080000
END:DAYLIGHT
BEGIN:STANDARD
TZOFFSETFROM:-0500
TZOFFSETTO:-0600
TZNAME:CST
DTSTART:20251102T070000
END:STANDARD
END:VTIMEZONE
BEGIN:VEVENT
DTSTART;VALUE=DATE:20240930
DTEND;VALUE=DATE:20241003
DTSTAMP:20260423T055145
CREATED:20240802T070509Z
LAST-MODIFIED:20241002T211646Z
UID:15160-1727722800-1727895599@comelectronics.com
SUMMARY:New York State Children's Alliance (NYSCA's) Leadership Conference
DESCRIPTION:Brooklyn Bridge Sponsor\nHoliday Inn Saratoga Springs   232 Broadway  Saratoga Springs\, New York  12866\nExhibiting:  V2 Advocate Interview Room Recording System \n<p>Brooklyn Bridge Sponsor<br />\nHoliday Inn Saratoga Springs   232 Broadway  Saratoga Springs\, New York  12866<br />\nExhibiting:  V2 Advocate Interview Room Recording System</p>
URL:https://comelectronics.com/event/new-york-state-childrens-alliance-nyscas-leadership-conference/
CATEGORIES:Tradeshows
END:VEVENT
END:VCALENDAR