BEGIN:VCALENDAR
VERSION:2.0
PRODID:-//Commercial Electronics - ECPv6.15.20//NONSGML v1.0//EN
CALSCALE:GREGORIAN
METHOD:PUBLISH
X-WR-CALNAME:Commercial Electronics
X-ORIGINAL-URL:https://comelectronics.com
X-WR-CALDESC:Events for Commercial Electronics
REFRESH-INTERVAL;VALUE=DURATION:PT1H
X-Robots-Tag:noindex
X-PUBLISHED-TTL:PT1H
BEGIN:VTIMEZONE
TZID:America/Chicago
BEGIN:DAYLIGHT
TZOFFSETFROM:-0600
TZOFFSETTO:-0500
TZNAME:CDT
DTSTART:20220313T080000
END:DAYLIGHT
BEGIN:STANDARD
TZOFFSETFROM:-0500
TZOFFSETTO:-0600
TZNAME:CST
DTSTART:20221106T070000
END:STANDARD
BEGIN:DAYLIGHT
TZOFFSETFROM:-0600
TZOFFSETTO:-0500
TZNAME:CDT
DTSTART:20230312T080000
END:DAYLIGHT
BEGIN:STANDARD
TZOFFSETFROM:-0500
TZOFFSETTO:-0600
TZNAME:CST
DTSTART:20231105T070000
END:STANDARD
BEGIN:DAYLIGHT
TZOFFSETFROM:-0600
TZOFFSETTO:-0500
TZNAME:CDT
DTSTART:20240310T080000
END:DAYLIGHT
BEGIN:STANDARD
TZOFFSETFROM:-0500
TZOFFSETTO:-0600
TZNAME:CST
DTSTART:20241103T070000
END:STANDARD
END:VTIMEZONE
BEGIN:VEVENT
DTSTART;VALUE=DATE:20230612
DTEND;VALUE=DATE:20230615
DTSTAMP:20260424T044429
CREATED:20221223T112031Z
LAST-MODIFIED:20230529T200526Z
UID:11363-1686528000-1686787199@comelectronics.com
SUMMARY:Texas Chief Deputies Association Conference
DESCRIPTION:Embassy Suites Conference Center & Spa    1001 E. McCarty Lane   San Marcos\, TX   78666  Exhibit Times: Tuesday\, June 13:  10 am – 5 pm Wednesday\, June 14:  8 am – 3 pm  Exhibiting:  Live911 – Distance-Aware Real-Time Monitoring and V2 Shield Interview Room Recording System \n<p>Embassy Suites Conference Center &amp; Spa    1001 E. McCarty Lane   San Marcos\, TX   78666  Exhibit Times: Tuesday\, June 13:  10 am &#8211; 5 pm Wednesday\, June 14:  8 am &#8211; 3 pm  Exhibiting:  Live911 &#8211; Distance-Aware Real-Time Monitoring and V2 Shield Interview Room Recording System</p>
URL:https://comelectronics.com/event/texas-chief-deputies-association-conference/
CATEGORIES:Tradeshows
END:VEVENT
END:VCALENDAR