BEGIN:VCALENDAR
VERSION:2.0
PRODID:-//Commercial Electronics - ECPv6.15.20//NONSGML v1.0//EN
CALSCALE:GREGORIAN
METHOD:PUBLISH
X-WR-CALNAME:Commercial Electronics
X-ORIGINAL-URL:https://comelectronics.com
X-WR-CALDESC:Events for Commercial Electronics
REFRESH-INTERVAL;VALUE=DURATION:PT1H
X-Robots-Tag:noindex
X-PUBLISHED-TTL:PT1H
BEGIN:VTIMEZONE
TZID:America/Chicago
BEGIN:DAYLIGHT
TZOFFSETFROM:-0600
TZOFFSETTO:-0500
TZNAME:CDT
DTSTART:20230312T080000
END:DAYLIGHT
BEGIN:STANDARD
TZOFFSETFROM:-0500
TZOFFSETTO:-0600
TZNAME:CST
DTSTART:20231105T070000
END:STANDARD
BEGIN:DAYLIGHT
TZOFFSETFROM:-0600
TZOFFSETTO:-0500
TZNAME:CDT
DTSTART:20240310T080000
END:DAYLIGHT
BEGIN:STANDARD
TZOFFSETFROM:-0500
TZOFFSETTO:-0600
TZNAME:CST
DTSTART:20241103T070000
END:STANDARD
BEGIN:DAYLIGHT
TZOFFSETFROM:-0600
TZOFFSETTO:-0500
TZNAME:CDT
DTSTART:20250309T080000
END:DAYLIGHT
BEGIN:STANDARD
TZOFFSETFROM:-0500
TZOFFSETTO:-0600
TZNAME:CST
DTSTART:20251102T070000
END:STANDARD
END:VTIMEZONE
BEGIN:VEVENT
DTSTART;VALUE=DATE:20240303
DTEND;VALUE=DATE:20240306
DTSTAMP:20260423T045640
CREATED:20240112T103523Z
LAST-MODIFIED:20240303T222008Z
UID:14130-1709424000-1709683199@comelectronics.com
SUMMARY:Missouri Public Safety Communications Conference
DESCRIPTION:Booth #54\nSt. Louis Union Station 1820 Market Street St. Louis\, MO 63103  \n Schedule:\n Sunday\, March 03: 5:00 pm – 8:00 pm – Welcome Reception\n Exhibit Times:\n Monday\, March 04: 11:30 am – 3:00 pm\n Tuesday\, March 05: 9:00 am – 1:00 pm  \n Exhibiting: Live911 – Distance-Aware Real-Time Monitoring and HigherGround NG911 Voice Recording System \n<p>Booth #54<br />\nSt. Louis Union Station 1820 Market Street St. Louis\, MO 63103 </p>\n<p> Schedule:<br />\n Sunday\, March 03: 5:00 pm &#8211; 8:00 pm &#8211; Welcome Reception<br />\n Exhibit Times:<br />\n Monday\, March 04: 11:30 am &#8211; 3:00 pm<br />\n Tuesday\, March 05: 9:00 am &#8211; 1:00 pm </p>\n<p> Exhibiting: Live911 &#8211; Distance-Aware Real-Time Monitoring and HigherGround NG911 Voice Recording System</p>
URL:https://comelectronics.com/event/missouri-public-safety-communications-conference/
CATEGORIES:Tradeshows
END:VEVENT
BEGIN:VEVENT
DTSTART;VALUE=DATE:20240307
DTEND;VALUE=DATE:20240308
DTSTAMP:20260423T045640
CREATED:20240207T165022Z
LAST-MODIFIED:20240306T230516Z
UID:14268-1709769600-1709855999@comelectronics.com
SUMMARY:Kansas CAC Director's Meeting
DESCRIPTION:Child Advocacy Center of Sedgwick County   1211 S Emporia St\, Wichita\, KS 67211\nPresenting:  V2 Advocate Interview Room Recording System \n<p>Child Advocacy Center of Sedgwick County   1211 S Emporia St\, Wichita\, KS 67211<br />\nPresenting:  V2 Advocate Interview Room Recording System</p>
URL:https://comelectronics.com/event/kansas-cac-directors-meeting/
CATEGORIES:Tradeshows
END:VEVENT
BEGIN:VEVENT
DTSTART;VALUE=DATE:20240318
DTEND;VALUE=DATE:20240322
DTSTAMP:20260423T045640
CREATED:20230921T072032Z
LAST-MODIFIED:20240319T043522Z
UID:13528-1710720000-1711065599@comelectronics.com
SUMMARY:40th International Symposium on Child Abuse
DESCRIPTION:Von Braun Center   700 Monroe St SW   Huntsville\, Alabama   35801\nExhibit Times:\nMonday\, March 18:  2:30 pm – 6:00 pm\nTuesday\, March 19:  7:00 am – 5:30 pm\nWednesday\, March 20:  7:30 am – 5:30 pm\nThursday\, March 21:  7:30 am – 1:00 pm\nExhibiting:  V2 Advocate Interview Room Recording System \n<p>Von Braun Center   700 Monroe St SW   Huntsville\, Alabama   35801<br />\nExhibit Times:<br />\nMonday\, March 18:  2:30 pm &#8211; 6:00 pm<br />\nTuesday\, March 19:  7:00 am &#8211; 5:30 pm<br />\nWednesday\, March 20:  7:30 am &#8211; 5:30 pm<br />\nThursday\, March 21:  7:30 am &#8211; 1:00 pm<br />\nExhibiting:  V2 Advocate Interview Room Recording System</p>
URL:https://comelectronics.com/event/40th-international-symposium-on-child-abuse/
CATEGORIES:Tradeshows
END:VEVENT
BEGIN:VEVENT
DTSTART;VALUE=DATE:20240326
DTEND;VALUE=DATE:20240328
DTSTAMP:20260423T045640
CREATED:20240112T103523Z
LAST-MODIFIED:20240323T053530Z
UID:14131-1711411200-1711583999@comelectronics.com
SUMMARY:Texas Police Chiefs Association Conference
DESCRIPTION:Booth#: 800\nGalveston Island Convention Center at The San Luis Resort 5600 Seawall Blvd  Galveston\, TX 77551\nExhibit Times:\nTuesday\, March 26:   6:00 pm – 8:00 pm\nWednesday\, March 27:  9:00 am – 5:00 pm\nExhibiting:\nLive911 – Distance-Aware Real-Time Monitoring and V2 Shield Interview Room Recording System \n<p>Booth#: 800<br />\nGalveston Island Convention Center at The San Luis Resort 5600 Seawall Blvd  Galveston\, TX 77551<br />\nExhibit Times:<br />\nTuesday\, March 26:   6:00 pm &#8211; 8:00 pm<br />\nWednesday\, March 27:  9:00 am &#8211; 5:00 pm<br />\nExhibiting:<br />\nLive911 &#8211; Distance-Aware Real-Time Monitoring and V2 Shield Interview Room Recording System</p>
URL:https://comelectronics.com/event/texas-police-chiefs-association-conference-2/
CATEGORIES:Tradeshows
END:VEVENT
END:VCALENDAR