BEGIN:VCALENDAR
VERSION:2.0
PRODID:-//Commercial Electronics - ECPv6.15.20//NONSGML v1.0//EN
CALSCALE:GREGORIAN
METHOD:PUBLISH
X-ORIGINAL-URL:https://comelectronics.com
X-WR-CALDESC:Events for Commercial Electronics
REFRESH-INTERVAL;VALUE=DURATION:PT1H
X-Robots-Tag:noindex
X-PUBLISHED-TTL:PT1H
BEGIN:VTIMEZONE
TZID:America/Chicago
BEGIN:DAYLIGHT
TZOFFSETFROM:-0600
TZOFFSETTO:-0500
TZNAME:CDT
DTSTART:20220313T080000
END:DAYLIGHT
BEGIN:STANDARD
TZOFFSETFROM:-0500
TZOFFSETTO:-0600
TZNAME:CST
DTSTART:20221106T070000
END:STANDARD
BEGIN:DAYLIGHT
TZOFFSETFROM:-0600
TZOFFSETTO:-0500
TZNAME:CDT
DTSTART:20230312T080000
END:DAYLIGHT
BEGIN:STANDARD
TZOFFSETFROM:-0500
TZOFFSETTO:-0600
TZNAME:CST
DTSTART:20231105T070000
END:STANDARD
BEGIN:DAYLIGHT
TZOFFSETFROM:-0600
TZOFFSETTO:-0500
TZNAME:CDT
DTSTART:20240310T080000
END:DAYLIGHT
BEGIN:STANDARD
TZOFFSETFROM:-0500
TZOFFSETTO:-0600
TZNAME:CST
DTSTART:20241103T070000
END:STANDARD
END:VTIMEZONE
BEGIN:VEVENT
DTSTART;VALUE=DATE:20230321
DTEND;VALUE=DATE:20230324
DTSTAMP:20260424T071652
CREATED:20221118T030530Z
LAST-MODIFIED:20230323T102029Z
UID:11092-1679356800-1679615999@comelectronics.com
SUMMARY:39th International Symposium on Child Abuse
DESCRIPTION:Von Braun Center   700 Monroe St SW   Huntsville\, Alabama  35801  Exhibiting:  V2 Advocate Interview Room Recording System \n<p>Von Braun Center   700 Monroe St SW   Huntsville\, Alabama  35801  Exhibiting:  V2 Advocate Interview Room Recording System</p>
URL:https://comelectronics.com/event/39th-international-symposium-on-child-abuse/
CATEGORIES:Tradeshows
END:VEVENT
END:VCALENDAR