BEGIN:VCALENDAR
VERSION:2.0
PRODID:-//Commercial Electronics - ECPv6.15.20//NONSGML v1.0//EN
CALSCALE:GREGORIAN
METHOD:PUBLISH
X-WR-CALNAME:Commercial Electronics
X-ORIGINAL-URL:https://comelectronics.com
X-WR-CALDESC:Events for Commercial Electronics
REFRESH-INTERVAL;VALUE=DURATION:PT1H
X-Robots-Tag:noindex
X-PUBLISHED-TTL:PT1H
BEGIN:VTIMEZONE
TZID:America/Chicago
BEGIN:DAYLIGHT
TZOFFSETFROM:-0600
TZOFFSETTO:-0500
TZNAME:CDT
DTSTART:20250309T080000
END:DAYLIGHT
BEGIN:STANDARD
TZOFFSETFROM:-0500
TZOFFSETTO:-0600
TZNAME:CST
DTSTART:20251102T070000
END:STANDARD
BEGIN:DAYLIGHT
TZOFFSETFROM:-0600
TZOFFSETTO:-0500
TZNAME:CDT
DTSTART:20260308T080000
END:DAYLIGHT
BEGIN:STANDARD
TZOFFSETFROM:-0500
TZOFFSETTO:-0600
TZNAME:CST
DTSTART:20261101T070000
END:STANDARD
BEGIN:DAYLIGHT
TZOFFSETFROM:-0600
TZOFFSETTO:-0500
TZNAME:CDT
DTSTART:20270314T080000
END:DAYLIGHT
BEGIN:STANDARD
TZOFFSETFROM:-0500
TZOFFSETTO:-0600
TZNAME:CST
DTSTART:20271107T070000
END:STANDARD
END:VTIMEZONE
BEGIN:VEVENT
DTSTART;VALUE=DATE:20260602
DTEND;VALUE=DATE:20260606
DTSTAMP:20260421T141232
CREATED:20260205T194510Z
LAST-MODIFIED:20260421T084533Z
UID:17934-1780426800-1780685999@comelectronics.com
SUMMARY:Illinois Juvenile Officer's Association (IJOA) Annual State Conference
DESCRIPTION:Friend of the Conference Sponsor\nBloomington-Normal Marriott Hotel & Conference Center  201 Broadway   Normal\, IL 61761 \n<p>Friend of the Conference Sponsor<br />\nBloomington-Normal Marriott Hotel &amp; Conference Center  201 Broadway   Normal\, IL 61761</p>
URL:https://comelectronics.com/event/illinois-juvenile-officers-association-ijoa-annual-state-conference/
CATEGORIES:Tradeshows
END:VEVENT
BEGIN:VEVENT
DTSTART;VALUE=DATE:20260603
DTEND;VALUE=DATE:20260605
DTSTAMP:20260421T141232
CREATED:20260220T231531Z
LAST-MODIFIED:20260421T084533Z
UID:18002-1780513200-1780599599@comelectronics.com
SUMMARY:Kansas CAC Director's Meeting
DESCRIPTION:Location:  TBA\nExhibiting:  V2 Advocate Interview Room Recording System \n<p>Location:  TBA<br />\nExhibiting:  V2 Advocate Interview Room Recording System</p>
URL:https://comelectronics.com/event/kansas-cac-directors-meeting-3/
CATEGORIES:Tradeshows
END:VEVENT
END:VCALENDAR