BEGIN:VCALENDAR
VERSION:2.0
PRODID:-//Commercial Electronics - ECPv6.15.20//NONSGML v1.0//EN
CALSCALE:GREGORIAN
METHOD:PUBLISH
X-WR-CALNAME:Commercial Electronics
X-ORIGINAL-URL:https://comelectronics.com
X-WR-CALDESC:Events for Commercial Electronics
REFRESH-INTERVAL;VALUE=DURATION:PT1H
X-Robots-Tag:noindex
X-PUBLISHED-TTL:PT1H
BEGIN:VTIMEZONE
TZID:America/Chicago
BEGIN:DAYLIGHT
TZOFFSETFROM:-0600
TZOFFSETTO:-0500
TZNAME:CDT
DTSTART:20240310T080000
END:DAYLIGHT
BEGIN:STANDARD
TZOFFSETFROM:-0500
TZOFFSETTO:-0600
TZNAME:CST
DTSTART:20241103T070000
END:STANDARD
BEGIN:DAYLIGHT
TZOFFSETFROM:-0600
TZOFFSETTO:-0500
TZNAME:CDT
DTSTART:20250309T080000
END:DAYLIGHT
BEGIN:STANDARD
TZOFFSETFROM:-0500
TZOFFSETTO:-0600
TZNAME:CST
DTSTART:20251102T070000
END:STANDARD
BEGIN:DAYLIGHT
TZOFFSETFROM:-0600
TZOFFSETTO:-0500
TZNAME:CDT
DTSTART:20260308T080000
END:DAYLIGHT
BEGIN:STANDARD
TZOFFSETFROM:-0500
TZOFFSETTO:-0600
TZNAME:CST
DTSTART:20261101T070000
END:STANDARD
END:VTIMEZONE
BEGIN:VEVENT
DTSTART;VALUE=DATE:20250316
DTEND;VALUE=DATE:20250321
DTSTAMP:20260422T063222
CREATED:20241011T230516Z
LAST-MODIFIED:20250320T053018Z
UID:15526-1742151600-1742497199@comelectronics.com
SUMMARY:41st International Symposium on Child Abuse Conference
DESCRIPTION:Von Braun Center 700 Monroe St SW Huntsville\, Alabama 35801\nExhibit Times:\nMonday\, March 17: 2:00 pm – 4:30 pm\nTuesday\, March 18: 7:30 am – 5:45 pm\nWednesday\, March 19: 7:30 am – 5:45 pm\nThursday\, March 20: 7:30 am – 12:00 pm\nExhibiting: V2 Advocate Interview Room Recording System \n<p>Von Braun Center 700 Monroe St SW Huntsville\, Alabama 35801<br />\nExhibit Times:<br />\nMonday\, March 17: 2:00 pm &#8211; 4:30 pm<br />\nTuesday\, March 18: 7:30 am &#8211; 5:45 pm<br />\nWednesday\, March 19: 7:30 am &#8211; 5:45 pm<br />\nThursday\, March 20: 7:30 am &#8211; 12:00 pm<br />\nExhibiting: V2 Advocate Interview Room Recording System</p>
URL:https://comelectronics.com/event/41st-international-symposium-on-child-abuse-conference/
CATEGORIES:Tradeshows
END:VEVENT
END:VCALENDAR