BEGIN:VCALENDAR
VERSION:2.0
PRODID:-//Commercial Electronics - ECPv6.15.20//NONSGML v1.0//EN
CALSCALE:GREGORIAN
METHOD:PUBLISH
X-WR-CALNAME:Commercial Electronics
X-ORIGINAL-URL:https://comelectronics.com
X-WR-CALDESC:Events for Commercial Electronics
REFRESH-INTERVAL;VALUE=DURATION:PT1H
X-Robots-Tag:noindex
X-PUBLISHED-TTL:PT1H
BEGIN:VTIMEZONE
TZID:America/Chicago
BEGIN:DAYLIGHT
TZOFFSETFROM:-0600
TZOFFSETTO:-0500
TZNAME:CDT
DTSTART:20220313T080000
END:DAYLIGHT
BEGIN:STANDARD
TZOFFSETFROM:-0500
TZOFFSETTO:-0600
TZNAME:CST
DTSTART:20221106T070000
END:STANDARD
BEGIN:DAYLIGHT
TZOFFSETFROM:-0600
TZOFFSETTO:-0500
TZNAME:CDT
DTSTART:20230312T080000
END:DAYLIGHT
BEGIN:STANDARD
TZOFFSETFROM:-0500
TZOFFSETTO:-0600
TZNAME:CST
DTSTART:20231105T070000
END:STANDARD
BEGIN:DAYLIGHT
TZOFFSETFROM:-0600
TZOFFSETTO:-0500
TZNAME:CDT
DTSTART:20240310T080000
END:DAYLIGHT
BEGIN:STANDARD
TZOFFSETFROM:-0500
TZOFFSETTO:-0600
TZNAME:CST
DTSTART:20241103T070000
END:STANDARD
END:VTIMEZONE
BEGIN:VEVENT
DTSTART;VALUE=DATE:20231002
DTEND;VALUE=DATE:20231004
DTSTAMP:20260423T212303
CREATED:20230427T213546Z
LAST-MODIFIED:20231003T095026Z
UID:12726-1696204800-1696377599@comelectronics.com
SUMMARY:Idaho 911 PSAP Conference
DESCRIPTION:Riverside Hotel   2900 W Chinden Blvd   Boise\, ID  83714\nExhibit Hours:\nMonday\, Oct 02:  5:00 pm – 8:00 pm\nTuesday\, Oct 03:  7:30 am – 5:00 pm\nExhibiting:  Live911 – Distance-Aware Real-Time Monitoring and HigherGround NG-911 Voice Recording System \n<p>Riverside Hotel   2900 W Chinden Blvd   Boise\, ID  83714<br />\nExhibit Hours:<br />\nMonday\, Oct 02:  5:00 pm &#8211; 8:00 pm<br />\nTuesday\, Oct 03:  7:30 am &#8211; 5:00 pm<br />\nExhibiting:  Live911 &#8211; Distance-Aware Real-Time Monitoring and HigherGround NG-911 Voice Recording System</p>
URL:https://comelectronics.com/event/idaho-911-psap-conference-3/
CATEGORIES:Tradeshows
END:VEVENT
END:VCALENDAR