BEGIN:VCALENDAR
VERSION:2.0
PRODID:-//Commercial Electronics - ECPv6.15.20//NONSGML v1.0//EN
CALSCALE:GREGORIAN
METHOD:PUBLISH
X-ORIGINAL-URL:https://comelectronics.com
X-WR-CALDESC:Events for Commercial Electronics
REFRESH-INTERVAL;VALUE=DURATION:PT1H
X-Robots-Tag:noindex
X-PUBLISHED-TTL:PT1H
BEGIN:VTIMEZONE
TZID:America/Chicago
BEGIN:DAYLIGHT
TZOFFSETFROM:-0600
TZOFFSETTO:-0500
TZNAME:CDT
DTSTART:20220313T080000
END:DAYLIGHT
BEGIN:STANDARD
TZOFFSETFROM:-0500
TZOFFSETTO:-0600
TZNAME:CST
DTSTART:20221106T070000
END:STANDARD
BEGIN:DAYLIGHT
TZOFFSETFROM:-0600
TZOFFSETTO:-0500
TZNAME:CDT
DTSTART:20230312T080000
END:DAYLIGHT
BEGIN:STANDARD
TZOFFSETFROM:-0500
TZOFFSETTO:-0600
TZNAME:CST
DTSTART:20231105T070000
END:STANDARD
BEGIN:DAYLIGHT
TZOFFSETFROM:-0600
TZOFFSETTO:-0500
TZNAME:CDT
DTSTART:20240310T080000
END:DAYLIGHT
BEGIN:STANDARD
TZOFFSETFROM:-0500
TZOFFSETTO:-0600
TZNAME:CST
DTSTART:20241103T070000
END:STANDARD
END:VTIMEZONE
BEGIN:VEVENT
DTSTART;VALUE=DATE:20230617
DTEND;VALUE=DATE:20230623
DTSTAMP:20260424T043441
CREATED:20220622T222537Z
LAST-MODIFIED:20230622T032038Z
UID:10212-1686960000-1687478399@comelectronics.com
SUMMARY:2023 NENA
DESCRIPTION:Booth #: 1024\nGaylord Texan Resort & Convention Center   1501 Gaylord Trails   Grapevine\, TX   76051\nExhibit Times:\nMonday\, June 19:  10:00 am – 1:30 pm\nMonday\, June 19:  4:00 pm – 6:00 pm\nTuesday\, June 20:  9:15 am – 4:00 pm\nExhibiting:  Live911 – Distance-Aware Real-Time Monitoring and HigherGround NG911 Voice Recording System \n<p>Booth #: 1024<br />\nGaylord Texan Resort &amp; Convention Center   1501 Gaylord Trails   Grapevine\, TX   76051<br />\nExhibit Times:<br />\nMonday\, June 19:  10:00 am &#8211; 1:30 pm<br />\nMonday\, June 19:  4:00 pm &#8211; 6:00 pm<br />\nTuesday\, June 20:  9:15 am &#8211; 4:00 pm<br />\nExhibiting:  Live911 &#8211; Distance-Aware Real-Time Monitoring and HigherGround NG911 Voice Recording System</p>
URL:https://comelectronics.com/event/2023-nena/
CATEGORIES:Tradeshows
END:VEVENT
END:VCALENDAR